BEGIN:VCALENDAR
VERSION:2.0
PRODID:-//Ocio en Ferrolterra - ECPv6.15.13.1//NONSGML v1.0//EN
CALSCALE:GREGORIAN
METHOD:PUBLISH
X-ORIGINAL-URL:https://ocioenferrolterra.com
X-WR-CALDESC:Eventos para Ocio en Ferrolterra
REFRESH-INTERVAL;VALUE=DURATION:PT1H
X-Robots-Tag:noindex
X-PUBLISHED-TTL:PT1H
BEGIN:VTIMEZONE
TZID:Europe/Madrid
BEGIN:DAYLIGHT
TZOFFSETFROM:+0100
TZOFFSETTO:+0200
TZNAME:CEST
DTSTART:20240331T010000
END:DAYLIGHT
BEGIN:STANDARD
TZOFFSETFROM:+0200
TZOFFSETTO:+0100
TZNAME:CET
DTSTART:20241027T010000
END:STANDARD
BEGIN:DAYLIGHT
TZOFFSETFROM:+0100
TZOFFSETTO:+0200
TZNAME:CEST
DTSTART:20250330T010000
END:DAYLIGHT
BEGIN:STANDARD
TZOFFSETFROM:+0200
TZOFFSETTO:+0100
TZNAME:CET
DTSTART:20251026T010000
END:STANDARD
BEGIN:DAYLIGHT
TZOFFSETFROM:+0100
TZOFFSETTO:+0200
TZNAME:CEST
DTSTART:20260329T010000
END:DAYLIGHT
BEGIN:STANDARD
TZOFFSETFROM:+0200
TZOFFSETTO:+0100
TZNAME:CET
DTSTART:20261025T010000
END:STANDARD
END:VTIMEZONE
BEGIN:VEVENT
DTSTART;TZID=Europe/Madrid:20250607T140000
DTEND;TZID=Europe/Madrid:20250607T170000
DTSTAMP:20260421T123646
CREATED:20250606T150631Z
LAST-MODIFIED:20250606T150633Z
UID:550-1749304800-1749315600@ocioenferrolterra.com
SUMMARY:XI Xuntanza de Grupos Tradicionais en Cerdido
DESCRIPTION:📍 Lugar: Área Recreativa O Castro\, Cerdido📅 Fecha y hora: Sábado 7 de junio de 2025\, desde las 14:00 h🎟 Edad recomendada: Para todos los públicos🎫 Entradas: Comida popular: 20 € (alumnos)\, 23 € (socios)\, 15 € (menores de 12 años) \nDescripción del evento: \nLa música tradicional gallega se da cita en Cerdido con la XI Xuntanza de Grupos Tradicionais\, un evento que se consolida como una de las grandes celebraciones culturales de la zona. Organizado por la Sociedad Cultural Airiños dos Carrís\, el encuentro se desarrollará en el entorno natural del Área Recreativa O Castro\, ofreciendo una jornada de folclore\, gastronomía y convivencia al aire libre. \nLa fiesta comenzará a las 14:00 horas con una animada sesión vermú a cargo de la Charanga Alxibeira de Narón\, seguida de una comida popular a las 15:00 h con un completo menú típico gallego. Por la tarde\, el protagonismo será para la música y el baile tradicional\, con actuaciones destacadas como la del grupo Os Xinxeliños de Cedeira\, además del encuentro folclórico con Álvaro Cunqueiro (Lugo) y la Asociación Lusco e Fusco (Vilalba). \nA las 21:00 horas\, Os D’Abaixo y A Requinta de Lampai pondrán el broche final a un día muy especial\, que culminará con una foliada libre para quienes quieran seguir bailando. Durante toda la jornada\, habrá puestos de artesanía\, completando una oferta perfecta para disfrutar en familia o con amigos de la cultura popular en el corazón de Ferrolterra.
URL:https://ocioenferrolterra.com/event/xi-xuntanza-de-grupos-tradicionais-en-cerdido/
CATEGORIES:Actuaciones,Gastronomía
ATTACH;FMTTYPE=image/jpeg:https://ocioenferrolterra.com/wp-content/uploads/2025/06/grupos-tradicionais-cerdido.jpg
END:VEVENT
BEGIN:VEVENT
DTSTART;TZID=Europe/Madrid:20250608T190000
DTEND;TZID=Europe/Madrid:20250608T213000
DTSTAMP:20260421T123646
CREATED:20250606T085622Z
LAST-MODIFIED:20250606T085632Z
UID:518-1749409200-1749418200@ocioenferrolterra.com
SUMMARY:Festival de Primavera en Cedeira
DESCRIPTION:📍 Lugar: Auditorio Municipal de Cedeira📅 Fecha y hora: Domingo 8 de junio de 2025\, a las 19:00 h🎫 Entradas: Acceso libre \nDescripción del evento: \nLa primavera se celebra con música y tradición en Cedeira de la mano del Festival de Primavera\, organizado por la Asociación Cultural Aturuxeiras. Este encuentro tendrá lugar el domingo 8 de junio en el Auditorio Municipal y contará con la participación de dos agrupaciones que representan el folclore local: A.C. As Caldupeiras\, de Narón\, y las anfitrionas A.C. As Aturuxeiras\, de Cedeira. \nSerá una tarde para disfrutar del sonido de la música tradicional gallega en un entorno acogedor\, donde el trabajo de las asociaciones culturales cobra protagonismo. La cita\, pensada para todos los públicos\, forma parte del calendario de eventos culturales de la comarca de Ferrolterra y cuenta con el respaldo del Xeoparque do Cabo Ortegal\, el Concello de Cedeira y la Deputación da Coruña.
URL:https://ocioenferrolterra.com/event/festival-de-primavera-en-cedeira/
CATEGORIES:Actuaciones
ATTACH;FMTTYPE=image/jpeg:https://ocioenferrolterra.com/wp-content/uploads/2025/06/Aturuxeiras.jpeg
END:VEVENT
BEGIN:VEVENT
DTSTART;TZID=Europe/Madrid:20250614T113000
DTEND;TZID=Europe/Madrid:20250614T133000
DTSTAMP:20260421T123646
CREATED:20250611T095030Z
LAST-MODIFIED:20250611T114006Z
UID:711-1749900600-1749907800@ocioenferrolterra.com
SUMMARY:La plaza de A Gándara acoge el primer concierto del ciclo Música nas prazas
DESCRIPTION:Este sábado 14 de junio\, la música en directo tomará la plaza de A Gándara con el primero de los conciertos del ciclo Música nas prazas\, una propuesta del Padroado da Cultura de Narón y la Asociación Cultural Musical Sementeira que busca llevar el sonido de la Xove Banda de Narón a diferentes rincones del municipio durante este mes. \nEntre las 11:30 y las 13:30 horas\, el vecindario de A Gándara podrá disfrutar de un repertorio variado en un entorno al aire libre\, con una formación que representa el relevo generacional dentro del panorama musical local. La Xove Banda de Narón\, vinculada a la Asociación Sementeira\, combina juventud y experiencia en una agrupación que ha sabido consolidarse con una línea artística sólida y vocación formativa. \nEsta actuación supone también una manera de revitalizar la vida en los espacios públicos del barrio\, sumando cultura y convivencia en una misma propuesta. La plaza de A Gándara\, habitual punto de encuentro para residentes y paseantes\, se transformará durante dos horas en un escenario abierto al ritmo de instrumentos de viento y percusión\, en una jornada pensada para disfrutar en familia o entre amigos. \nEl ciclo Música nas prazas continuará el viernes 21 de junio en la plaza de Galicia y concluirá el 28 en la plaza de Tranvías\, siempre en el mismo horario de mañana. Tres citas que refuerzan el compromiso del Concello de Narón con una cultura descentralizada y viva\, muy en contacto con la ciudadanía.
URL:https://ocioenferrolterra.com/event/musica-nas-prazas-praza-da-gandara-en-naron/
CATEGORIES:Actuaciones
ATTACH;FMTTYPE=image/jpeg:https://ocioenferrolterra.com/wp-content/uploads/2025/06/musica-nas-prazas-ok.jpg
END:VEVENT
BEGIN:VEVENT
DTSTART;TZID=Europe/Madrid:20250614T160000
DTEND;TZID=Europe/Madrid:20250614T200000
DTSTAMP:20260421T123646
CREATED:20250606T144959Z
LAST-MODIFIED:20250606T145003Z
UID:532-1749916800-1749931200@ocioenferrolterra.com
SUMMARY:Tarde Solidaria en Cabanas
DESCRIPTION:📍 Lugar: Pavillón de Lavandeira\, Cabanas📅 Fecha y hora: Sábado 14 de junio de 2025\, desde las 16:00 h🎫 Entradas: Actividad gratuita \nDescripción del evento: \nEl municipio de Cabanas acoge una nueva edición de la Tarde Solidaria\, una jornada impulsada por la Asociación de Mulleres Cabanas Rural con el apoyo del Concello\, que busca visibilizar y apoyar el trabajo de AFAL Ferrolterra y otras entidades sociales del entorno. \nLa cita comenzará a las 16:00 horas con la llegada de los voluntarios y la presentación oficial del evento. Uno de los momentos más especiales será el obradoiro participativo con los usuarios de AFAL\, que pondrá en valor el trabajo colectivo y la importancia de la inclusión en la vida comunitaria. \nLa tarde estará amenizada con las actuaciones de la Coral Polifónica Eumesa y del grupo escolar de panderetas de Airiños da Capela. Además\, habrá sorteos\, música\, y una merienda abierta para todas las personas asistentes\, en un ambiente distendido y solidario.
URL:https://ocioenferrolterra.com/event/tarde-solidaria-en-cabanas/
CATEGORIES:Actuaciones
ATTACH;FMTTYPE=image/jpeg:https://ocioenferrolterra.com/wp-content/uploads/2025/06/tarde-solidaria-cabanas.jpg
END:VEVENT
BEGIN:VEVENT
DTSTART;TZID=Europe/Madrid:20250615T200000
DTEND;TZID=Europe/Madrid:20250615T213000
DTSTAMP:20260421T123646
CREATED:20250608T195136Z
LAST-MODIFIED:20250608T195138Z
UID:630-1750017600-1750023000@ocioenferrolterra.com
SUMMARY:Festival 110 Aniversario do Real Coro Toxos e Froles
DESCRIPTION:📍 Lugar: Teatro Jofre\, Ferrol📅 Fecha y hora: Domingo 15 de junio de 2025\, a las 20:00 h🎫 Entradas: Gratuitas\, disponibles en la taquilla del teatro a partir del martes 10 de junio. \nDescripción del evento: \nEl emblemático Real Coro Toxos e Froles celebra sus 110 años de historia con un festival especial en el Teatro Jofre\, un espacio ligado a su trayectoria artística en Ferrol. La cita tendrá lugar el domingo 15 de junio a las 20:00 h\, con entrada libre hasta completar aforo. \nEste aniversario es mucho más que una efeméride: es un homenaje colectivo a más de un siglo de compromiso con la música tradicional gallega\, cultivada y compartida desde Ferrol para toda Galicia. Como es habitual\, las invitaciones se podrán recoger en la taquilla del teatro. \nUn acto emotivo y simbólico\, enmarcado dentro das Xornadas Culturais Abertas\, que invita a la ciudadanía a celebrar el pasado\, presente y futuro de una de las agrupaciones culturales más queridas de la comarca de Ferrolterra.
URL:https://ocioenferrolterra.com/event/festival-110-aniversario-do-real-coro-toxos-e-froles/
CATEGORIES:Actuaciones
ATTACH;FMTTYPE=image/jpeg:https://ocioenferrolterra.com/wp-content/uploads/2025/06/110-aniversario-toxos.jpg
END:VEVENT
BEGIN:VEVENT
DTSTART;TZID=Europe/Madrid:20250621T113000
DTEND;TZID=Europe/Madrid:20250621T133000
DTSTAMP:20260421T123646
CREATED:20250611T095149Z
LAST-MODIFIED:20250611T114601Z
UID:714-1750505400-1750512600@ocioenferrolterra.com
SUMMARY:Música nas prazas llega a la plaza de Galicia con la Xove Banda de Narón
DESCRIPTION:El sábado 21 de junio\, la plaza de Galicia será el segundo escenario del ciclo Música nas prazas\, que este mes lleva la música de banda a distintos puntos de Narón. La cita\, programada entre las 11:30 y las 13:30 horas\, permitirá disfrutar del repertorio de la Xove Banda de Narón en pleno centro urbano\, en un formato pensado para compartir al aire libre. \nOrganizado por el Padroado da Cultura y la Asociación Cultural Musical Sementeira\, con el apoyo de la Deputación da Coruña\, este ciclo busca descentralizar la oferta cultural y acercarla a los barrios. En esta ocasión\, el corazón de la ciudad será el punto de encuentro para vecinas y vecinos que quieran comenzar el día con música en directo. \nLa Xove Banda de Narón\, formación juvenil con un sólido recorrido\, ofrecerá una selección de piezas pensada para todos los públicos\, combinando obras populares con arreglos más actuales. Su presencia en este ciclo refuerza el papel de la música como elemento vertebrador del tejido social y cultural del municipio. \nDespués de su paso por A Gándara\, donde arrancó el ciclo el sábado anterior\, la agrupación recala ahora en una de las plazas más céntricas de Narón. Será una nueva ocasión para disfrutar de la calidad y la energía de una banda que representa la cantera musical de la ciudad. \nEl ciclo concluirá el viernes 28 de junio con una última actuación en la plaza de Tranvías\, manteniendo el mismo horario matinal. Tres paradas\, tres plazas y una misma filosofía: hacer de la música un bien común accesible y presente en la vida cotidiana.
URL:https://ocioenferrolterra.com/event/musica-nas-prazas-praza-de-galicia-naron/
CATEGORIES:Actuaciones
ATTACH;FMTTYPE=image/jpeg:https://ocioenferrolterra.com/wp-content/uploads/2025/06/musica-nas-prazas-ok.jpg
END:VEVENT
BEGIN:VEVENT
DTSTART;TZID=Europe/Madrid:20250627T200000
DTEND;TZID=Europe/Madrid:20250627T213000
DTSTAMP:20260421T123646
CREATED:20250627T100211Z
LAST-MODIFIED:20250627T100211Z
UID:1007-1751054400-1751059800@ocioenferrolterra.com
SUMMARY:Valdoviño celebra el fin de curso de la Escola Municipal de Música
DESCRIPTION:Este viernes 27 de junio\, a partir de las 20:00 h\, el auditorio de la Casa da Cultura de Valdoviño acogerá el ya tradicional Festival de Fin de Curso de la Escola Municipal de Música\, una cita que año tras año reúne a familias\, amigos y vecinos. \nEl evento estará protagonizado por el alumnado de las distintas disciplinas que se imparten en la escuela: piano\, percusión\, guitarra\, canto y también el área de música y movimiento\, pensada para los más pequeños. A lo largo de la tarde\, se sucederán pequeñas actuaciones en formato breve que permitirán ver la evolución del alumnado y disfrutar de un repertorio variado\, con piezas clásicas\, populares y modernas. \nEl festival tiene un carácter abierto y gratuito\, y se ha convertido en un espacio de encuentro intergeneracional\, donde se pone en valor el esfuerzo de todo un curso y el papel de la música como herramienta educativa y emocional. Además\, es una oportunidad para acercarse al trabajo que se realiza desde esta escuela municipal\, un recurso que cada año gana en participación y dinamismo dentro de la vida cultural de Valdoviño.
URL:https://ocioenferrolterra.com/event/valdovino-celebra-el-fin-de-curso-de-la-escola-municipal-de-musica/
CATEGORIES:Actuaciones
ATTACH;FMTTYPE=image/jpeg:https://ocioenferrolterra.com/wp-content/uploads/2025/06/musica-valdovino.jpg
END:VEVENT
BEGIN:VEVENT
DTSTART;TZID=Europe/Madrid:20250628T113000
DTEND;TZID=Europe/Madrid:20250628T133000
DTSTAMP:20260421T123646
CREATED:20250611T095256Z
LAST-MODIFIED:20250611T114522Z
UID:717-1751110200-1751117400@ocioenferrolterra.com
SUMMARY:La plaza de Tranvías despide el ciclo Música nas prazas en Narón
DESCRIPTION:El próximo sábado 28 de junio\, la plaza de Tranvías acogerá la tercera y última parada del ciclo Música nas prazas\, una iniciativa que durante este mes ha llenado de música en directo diferentes espacios públicos de Narón. De 11:30 a 13:30 horas\, será el turno final de la Xove Banda de Narón\, que cerrará esta pequeña gira urbana con una nueva actuación al aire libre. \nLa propuesta\, impulsada por el Padroado da Cultura de Narón y la Asociación Cultural Musical Sementeira con la colaboración de la Deputación da Coruña\, ha buscado acercar la música a pie de calle y descentralizar la actividad cultural habitual. Tras su paso por las plazas de A Gándara y Galicia\, el ciclo llega ahora a un entorno menos céntrico pero igualmente significativo\, con un marcado carácter de barrio. \nLa actuación en Tranvías será una nueva ocasión para ver en acción a la agrupación juvenil con más trayectoria de la Asociación Sementeira\, formada por jóvenes músicos que combinan formación\, compromiso y ganas de compartir su arte. Con un repertorio que suele moverse entre lo clásico y lo contemporáneo\, la banda ofrecerá una sesión pensada para todos los públicos. \nEste cierre en la plaza de Tranvías pone el broche a un ciclo que ha apostado por la proximidad\, por la cultura compartida y por el valor de la música como forma de encuentro vecinal. Una manera distinta de vivir las mañanas de junio\, con sonidos que acompañan el inicio del verano y reivindican el papel de los espacios públicos como escenarios culturales vivos.
URL:https://ocioenferrolterra.com/event/musica-nas-prazas-praza-dos-tranvias-naron/
CATEGORIES:Actuaciones
ATTACH;FMTTYPE=image/jpeg:https://ocioenferrolterra.com/wp-content/uploads/2025/06/musica-nas-prazas-ok.jpg
END:VEVENT
END:VCALENDAR