BEGIN:VCALENDAR
VERSION:2.0
PRODID:-//Ocio en Ferrolterra - ECPv6.15.13.1//NONSGML v1.0//EN
CALSCALE:GREGORIAN
METHOD:PUBLISH
X-ORIGINAL-URL:https://ocioenferrolterra.com
X-WR-CALDESC:Eventos para Ocio en Ferrolterra
REFRESH-INTERVAL;VALUE=DURATION:PT1H
X-Robots-Tag:noindex
X-PUBLISHED-TTL:PT1H
BEGIN:VTIMEZONE
TZID:Europe/Madrid
BEGIN:DAYLIGHT
TZOFFSETFROM:+0100
TZOFFSETTO:+0200
TZNAME:CEST
DTSTART:20240331T010000
END:DAYLIGHT
BEGIN:STANDARD
TZOFFSETFROM:+0200
TZOFFSETTO:+0100
TZNAME:CET
DTSTART:20241027T010000
END:STANDARD
BEGIN:DAYLIGHT
TZOFFSETFROM:+0100
TZOFFSETTO:+0200
TZNAME:CEST
DTSTART:20250330T010000
END:DAYLIGHT
BEGIN:STANDARD
TZOFFSETFROM:+0200
TZOFFSETTO:+0100
TZNAME:CET
DTSTART:20251026T010000
END:STANDARD
BEGIN:DAYLIGHT
TZOFFSETFROM:+0100
TZOFFSETTO:+0200
TZNAME:CEST
DTSTART:20260329T010000
END:DAYLIGHT
BEGIN:STANDARD
TZOFFSETFROM:+0200
TZOFFSETTO:+0100
TZNAME:CET
DTSTART:20261025T010000
END:STANDARD
END:VTIMEZONE
BEGIN:VEVENT
DTSTART;TZID=Europe/Madrid:20250607T140000
DTEND;TZID=Europe/Madrid:20250607T170000
DTSTAMP:20260421T141422
CREATED:20250606T150631Z
LAST-MODIFIED:20250606T150633Z
UID:550-1749304800-1749315600@ocioenferrolterra.com
SUMMARY:XI Xuntanza de Grupos Tradicionais en Cerdido
DESCRIPTION:📍 Lugar: Área Recreativa O Castro\, Cerdido📅 Fecha y hora: Sábado 7 de junio de 2025\, desde las 14:00 h🎟 Edad recomendada: Para todos los públicos🎫 Entradas: Comida popular: 20 € (alumnos)\, 23 € (socios)\, 15 € (menores de 12 años) \nDescripción del evento: \nLa música tradicional gallega se da cita en Cerdido con la XI Xuntanza de Grupos Tradicionais\, un evento que se consolida como una de las grandes celebraciones culturales de la zona. Organizado por la Sociedad Cultural Airiños dos Carrís\, el encuentro se desarrollará en el entorno natural del Área Recreativa O Castro\, ofreciendo una jornada de folclore\, gastronomía y convivencia al aire libre. \nLa fiesta comenzará a las 14:00 horas con una animada sesión vermú a cargo de la Charanga Alxibeira de Narón\, seguida de una comida popular a las 15:00 h con un completo menú típico gallego. Por la tarde\, el protagonismo será para la música y el baile tradicional\, con actuaciones destacadas como la del grupo Os Xinxeliños de Cedeira\, además del encuentro folclórico con Álvaro Cunqueiro (Lugo) y la Asociación Lusco e Fusco (Vilalba). \nA las 21:00 horas\, Os D’Abaixo y A Requinta de Lampai pondrán el broche final a un día muy especial\, que culminará con una foliada libre para quienes quieran seguir bailando. Durante toda la jornada\, habrá puestos de artesanía\, completando una oferta perfecta para disfrutar en familia o con amigos de la cultura popular en el corazón de Ferrolterra.
URL:https://ocioenferrolterra.com/event/xi-xuntanza-de-grupos-tradicionais-en-cerdido/
CATEGORIES:Actuaciones,Gastronomía
ATTACH;FMTTYPE=image/jpeg:https://ocioenferrolterra.com/wp-content/uploads/2025/06/grupos-tradicionais-cerdido.jpg
END:VEVENT
END:VCALENDAR