BEGIN:VCALENDAR
VERSION:2.0
PRODID:-//Ocio en Ferrolterra - ECPv6.15.13.1//NONSGML v1.0//EN
CALSCALE:GREGORIAN
METHOD:PUBLISH
X-ORIGINAL-URL:https://ocioenferrolterra.com
X-WR-CALDESC:Eventos para Ocio en Ferrolterra
REFRESH-INTERVAL;VALUE=DURATION:PT1H
X-Robots-Tag:noindex
X-PUBLISHED-TTL:PT1H
BEGIN:VTIMEZONE
TZID:Europe/Madrid
BEGIN:DAYLIGHT
TZOFFSETFROM:+0100
TZOFFSETTO:+0200
TZNAME:CEST
DTSTART:20240331T010000
END:DAYLIGHT
BEGIN:STANDARD
TZOFFSETFROM:+0200
TZOFFSETTO:+0100
TZNAME:CET
DTSTART:20241027T010000
END:STANDARD
BEGIN:DAYLIGHT
TZOFFSETFROM:+0100
TZOFFSETTO:+0200
TZNAME:CEST
DTSTART:20250330T010000
END:DAYLIGHT
BEGIN:STANDARD
TZOFFSETFROM:+0200
TZOFFSETTO:+0100
TZNAME:CET
DTSTART:20251026T010000
END:STANDARD
BEGIN:DAYLIGHT
TZOFFSETFROM:+0100
TZOFFSETTO:+0200
TZNAME:CEST
DTSTART:20260329T010000
END:DAYLIGHT
BEGIN:STANDARD
TZOFFSETFROM:+0200
TZOFFSETTO:+0100
TZNAME:CET
DTSTART:20261025T010000
END:STANDARD
END:VTIMEZONE
BEGIN:VEVENT
DTSTART;TZID=Europe/Madrid:20250614T113000
DTEND;TZID=Europe/Madrid:20250614T133000
DTSTAMP:20260421T141523
CREATED:20250611T095030Z
LAST-MODIFIED:20250611T114006Z
UID:711-1749900600-1749907800@ocioenferrolterra.com
SUMMARY:La plaza de A Gándara acoge el primer concierto del ciclo Música nas prazas
DESCRIPTION:Este sábado 14 de junio\, la música en directo tomará la plaza de A Gándara con el primero de los conciertos del ciclo Música nas prazas\, una propuesta del Padroado da Cultura de Narón y la Asociación Cultural Musical Sementeira que busca llevar el sonido de la Xove Banda de Narón a diferentes rincones del municipio durante este mes. \nEntre las 11:30 y las 13:30 horas\, el vecindario de A Gándara podrá disfrutar de un repertorio variado en un entorno al aire libre\, con una formación que representa el relevo generacional dentro del panorama musical local. La Xove Banda de Narón\, vinculada a la Asociación Sementeira\, combina juventud y experiencia en una agrupación que ha sabido consolidarse con una línea artística sólida y vocación formativa. \nEsta actuación supone también una manera de revitalizar la vida en los espacios públicos del barrio\, sumando cultura y convivencia en una misma propuesta. La plaza de A Gándara\, habitual punto de encuentro para residentes y paseantes\, se transformará durante dos horas en un escenario abierto al ritmo de instrumentos de viento y percusión\, en una jornada pensada para disfrutar en familia o entre amigos. \nEl ciclo Música nas prazas continuará el viernes 21 de junio en la plaza de Galicia y concluirá el 28 en la plaza de Tranvías\, siempre en el mismo horario de mañana. Tres citas que refuerzan el compromiso del Concello de Narón con una cultura descentralizada y viva\, muy en contacto con la ciudadanía.
URL:https://ocioenferrolterra.com/event/musica-nas-prazas-praza-da-gandara-en-naron/
CATEGORIES:Actuaciones
ATTACH;FMTTYPE=image/jpeg:https://ocioenferrolterra.com/wp-content/uploads/2025/06/musica-nas-prazas-ok.jpg
END:VEVENT
BEGIN:VEVENT
DTSTART;TZID=Europe/Madrid:20250614T160000
DTEND;TZID=Europe/Madrid:20250614T200000
DTSTAMP:20260421T141523
CREATED:20250606T144959Z
LAST-MODIFIED:20250606T145003Z
UID:532-1749916800-1749931200@ocioenferrolterra.com
SUMMARY:Tarde Solidaria en Cabanas
DESCRIPTION:📍 Lugar: Pavillón de Lavandeira\, Cabanas📅 Fecha y hora: Sábado 14 de junio de 2025\, desde las 16:00 h🎫 Entradas: Actividad gratuita \nDescripción del evento: \nEl municipio de Cabanas acoge una nueva edición de la Tarde Solidaria\, una jornada impulsada por la Asociación de Mulleres Cabanas Rural con el apoyo del Concello\, que busca visibilizar y apoyar el trabajo de AFAL Ferrolterra y otras entidades sociales del entorno. \nLa cita comenzará a las 16:00 horas con la llegada de los voluntarios y la presentación oficial del evento. Uno de los momentos más especiales será el obradoiro participativo con los usuarios de AFAL\, que pondrá en valor el trabajo colectivo y la importancia de la inclusión en la vida comunitaria. \nLa tarde estará amenizada con las actuaciones de la Coral Polifónica Eumesa y del grupo escolar de panderetas de Airiños da Capela. Además\, habrá sorteos\, música\, y una merienda abierta para todas las personas asistentes\, en un ambiente distendido y solidario.
URL:https://ocioenferrolterra.com/event/tarde-solidaria-en-cabanas/
CATEGORIES:Actuaciones
ATTACH;FMTTYPE=image/jpeg:https://ocioenferrolterra.com/wp-content/uploads/2025/06/tarde-solidaria-cabanas.jpg
END:VEVENT
END:VCALENDAR