BEGIN:VCALENDAR
VERSION:2.0
PRODID:-//Ocio en Ferrolterra - ECPv6.15.13.1//NONSGML v1.0//EN
CALSCALE:GREGORIAN
METHOD:PUBLISH
X-ORIGINAL-URL:https://ocioenferrolterra.com
X-WR-CALDESC:Eventos para Ocio en Ferrolterra
REFRESH-INTERVAL;VALUE=DURATION:PT1H
X-Robots-Tag:noindex
X-PUBLISHED-TTL:PT1H
BEGIN:VTIMEZONE
TZID:Europe/Madrid
BEGIN:DAYLIGHT
TZOFFSETFROM:+0100
TZOFFSETTO:+0200
TZNAME:CEST
DTSTART:20240331T010000
END:DAYLIGHT
BEGIN:STANDARD
TZOFFSETFROM:+0200
TZOFFSETTO:+0100
TZNAME:CET
DTSTART:20241027T010000
END:STANDARD
BEGIN:DAYLIGHT
TZOFFSETFROM:+0100
TZOFFSETTO:+0200
TZNAME:CEST
DTSTART:20250330T010000
END:DAYLIGHT
BEGIN:STANDARD
TZOFFSETFROM:+0200
TZOFFSETTO:+0100
TZNAME:CET
DTSTART:20251026T010000
END:STANDARD
BEGIN:DAYLIGHT
TZOFFSETFROM:+0100
TZOFFSETTO:+0200
TZNAME:CEST
DTSTART:20260329T010000
END:DAYLIGHT
BEGIN:STANDARD
TZOFFSETFROM:+0200
TZOFFSETTO:+0100
TZNAME:CET
DTSTART:20261025T010000
END:STANDARD
END:VTIMEZONE
BEGIN:VEVENT
DTSTART;TZID=Europe/Madrid:20250611T203000
DTEND;TZID=Europe/Madrid:20250611T213000
DTSTAMP:20260419T194921
CREATED:20250609T091416Z
LAST-MODIFIED:20250611T125033Z
UID:661-1749673800-1749677400@ocioenferrolterra.com
SUMMARY:Cine y memoria LGBT+ en Fiada con “Prayers for Bobby”
DESCRIPTION:El colectivo Avante LGBT+ Ferrolterra continúa con su programación especial por el mes del Orgullo\, y este miércoles 11 de junio propone una nueva sesión de cine en su ciclo Orgullo Filmográfico. A las 20:30 horas\, en el espacio Fiada (Estrada de Catabois\, 230)\, se proyectará la película Prayers for Bobby\, protagonizada por Sigourney Weaver. \nLa cinta\, basada en hechos reales\, narra la historia de Bobby Griffith\, un joven homosexual que lucha por la aceptación de su familia en un entorno marcado por la religión y el rechazo. Weaver interpreta a su madre\, Mary\, cuyo proceso personal tras la tragedia da forma a un relato profundamente humano sobre la transformación\, la culpa\, el amor y la defensa de los derechos LGTB+. \nCon el subtítulo “She loves everything about her son… except who he is”\, la película se ha convertido en una referencia del cine con perspectiva LGTB+ y sigue emocionando por su crudeza y sensibilidad\, además de ser una herramienta educativa y de reflexión. \nLa sesión está abierta al público y forma parte de las actividades culturales que Avante impulsa en la comarca para fomentar el diálogo\, la visibilidad y la memoria colectiva. La elección de Prayers for Bobby no es casual: es una historia que sigue interpelando\, que pone el foco en las consecuencias de la intolerancia familiar y social\, y que reivindica la empatía como forma de cambio.
URL:https://ocioenferrolterra.com/event/cine-con-orgullo-prayers-for-bobby-en-ferrol/
CATEGORIES:Cine
ATTACH;FMTTYPE=image/jpeg:https://ocioenferrolterra.com/wp-content/uploads/2025/06/prayers-for-bobby-ferrol.jpg
END:VEVENT
BEGIN:VEVENT
DTSTART;TZID=Europe/Madrid:20250612T190000
DTEND;TZID=Europe/Madrid:20250612T203000
DTSTAMP:20260419T194921
CREATED:20250607T091221Z
LAST-MODIFIED:20250611T130252Z
UID:617-1749754800-1749760200@ocioenferrolterra.com
SUMMARY:Fellini abre el ciclo de cine sénior con La dolce vita el 12 de junio
DESCRIPTION:Este jueves 12 de junio a las 19:00 horas\, el centro cívico Carvalho Calero acoge la primera sesión del nuevo Ciclo de Cine Sénior\, una iniciativa del Concello de Ferrol en colaboración con la AVV del Ensanche A\, dirigida a las personas mayores de la ciudad. La película elegida para abrir el programa es todo un clásico: La dolce vita\, de Federico Fellini. \nPara esta primera jornada\, la proyección contará con una presentación a cargo de Aurora Vázquez\, licenciada en Geografía e Historia y monitora de cine\, quien ofrecerá una introducción contextualizada y moderará un pequeño coloquio posterior. La sesión busca ser algo más que cine: un espacio para reflexionar\, dialogar y compartir. \nCon esta propuesta\, el Concello quiere combatir la soledad no deseada\, fomentar la participación activa y visibilizar la rica videoteca vecinal del Ensanche A\, con más de 1.000 títulos. La actividad forma parte del compromiso de Ferrol como miembro de la Red Mundial de Ciudades Amigables con las Personas Mayores.
URL:https://ocioenferrolterra.com/event/ciclo-de-cine-senior-en-ferrol-la-dolce-vita/
CATEGORIES:Cine
END:VEVENT
BEGIN:VEVENT
DTSTART;TZID=Europe/Madrid:20250618T183000
DTEND;TZID=Europe/Madrid:20250618T200000
DTSTAMP:20260419T194921
CREATED:20250618T114931Z
LAST-MODIFIED:20250618T115105Z
UID:918-1750271400-1750276800@ocioenferrolterra.com
SUMMARY:La película 20.000 especies de abejas y coloquio este miércoles en Narón
DESCRIPTION:Este miércoles 18 de junio\, a las 18:30 h\, la sala Celeuma (Rúa Reis Magos 36-38\, Narón) se convierte en foro comunitario con la proyección de 20.000 especies de abejas y un coloquio posterior con su productor. La cita —enmarcada en el ciclo Orgullo Filmográfico de Avante LGBT+ Ferrolterra— acerca a la comarca un debate abierto sobre identidad y diversidad a través del lenguaje del cine. \nComo ya es costumbre en estas semanas previas al Día del Orgullo\, el colectivo local ha optado por un filme con fuerte arraigo social. La trama de Estibaliz Urresola sitúa a una niña en pleno descubrimiento de sí misma mientras su familia se replantea viejos esquemas; un espejo donde muchas personas de Ferrolterra pueden reconocerse. El diálogo con el propio productor al finalizar la sesión buscará precisamente esa conexión entre las historias que vemos en pantalla y las realidades que vivimos en la zona. \nLa película\, Biznaga de Oro en el Festival de Málaga y Premio a la Mejor Interpretación en la Berlinale\, se rodó entre Álava y Bizkaia\, pero sus preguntas —¿Quiénes somos? ¿Cómo nos nombramos?— trascienden fronteras. En Narón se proyectará en versión original en castellano\, detalle que refuerza la cercanía del relato y permitirá profundizar\, durante el coloquio\, en las decisiones creativas y en el impacto que el film ha tenido en festivales de todo el mundo. \nLa sesión está pensada para un público adulto y cuenta con aforo limitado. Una propuesta perfecta para quienes buscan algo más que entretenimiento: la oportunidad de escuchar al equipo detrás de la cámara y sumarse a un debate que sigue creciendo en la ciudad.
URL:https://ocioenferrolterra.com/event/la-pelicula-20-000-especies-de-abejas-y-coloquio-este-miercoles-en-naron/
CATEGORIES:Cine
ATTACH;FMTTYPE=image/jpeg:https://ocioenferrolterra.com/wp-content/uploads/2025/06/20000-abejas-cine.jpg
END:VEVENT
BEGIN:VEVENT
DTSTART;TZID=Europe/Madrid:20250619T190000
DTEND;TZID=Europe/Madrid:20250619T203000
DTSTAMP:20260419T194921
CREATED:20250607T091520Z
LAST-MODIFIED:20250611T130618Z
UID:619-1750359600-1750365000@ocioenferrolterra.com
SUMMARY:Moulin Rouge\, cine musical y colorido para la segunda sesión sénior el 19 de junio
DESCRIPTION:El jueves 19 de junio a las 19:00 horas\, el ciclo de cine sénior continúa en el centro cívico Carvalho Calero con la proyección de Moulin Rouge (2001)\, el vibrante musical dirigido por Baz Luhrmann y protagonizado por Nicole Kidman y Ewan McGregor. Una cinta que recupera el espíritu del cabaret con una puesta en escena desbordante y una banda sonora inolvidable. \nLa película\, que mezcla amor trágico y espectáculo visual\, forma parte del ciclo impulsado por la Concejalía de Política Social y la AVV del Ensanche A\, pensado como una propuesta cultural para las personas mayores de Ferrol. Más allá del cine\, se pretende generar espacios de encuentro que combatan la soledad y fomenten el diálogo. \nTras la buena acogida de la primera sesión\, se espera que esta segunda entrega mantenga el ambiente participativo y cercano que caracteriza el ciclo. Una oportunidad para disfrutar de cine de calidad\, compartir impresiones y pasar un rato diferente en compañía.
URL:https://ocioenferrolterra.com/event/ciclo-de-cine-senior-en-ferrol-moulin-rouge/
CATEGORIES:Cine
END:VEVENT
BEGIN:VEVENT
DTSTART;TZID=Europe/Madrid:20250620T203000
DTEND;TZID=Europe/Madrid:20250620T220000
DTSTAMP:20260419T194921
CREATED:20250521T153448Z
LAST-MODIFIED:20250521T153448Z
UID:171-1750451400-1750456800@ocioenferrolterra.com
SUMMARY:Cineconcerto: El maquinista de la General con The Jazz on Five
DESCRIPTION:📍 Lugar: Teatro Jofre\, Ferrol📅 Fecha y hora: Viernes 20 de junio de 2025\, a las 20:30 h🎫 Entradas: Desde 8 € en Ataquilla.com🔗 Más info: Ferrol Cultura \nDescripción del evento: \nEl Teatro Jofre de Ferrol se convierte en escenario de una experiencia cinematográfica única con la proyección de El maquinista de la General (1926)\, la célebre comedia muda protagonizada por Buster Keaton. Esta obra maestra del cine\, ambientada durante la Guerra de Secesión estadounidense\, narra las peripecias de Johnny Gray en su intento por recuperar su locomotora y a su amada. \nLa película será acompañada en directo por la banda The Jazz on Five\, que aportará una banda sonora en vivo con su característico estilo que fusiona jazz\, swing y otros géneros musicales. La formación\, compuesta por Guillem Ferrer (saxo)\, Carmen Vela (flauta y clarinete)\, Mario Siles (banjo)\, David Herrington (tuba) y Dani García (batería)\, promete enriquecer la proyección con una interpretación musical vibrante y contemporánea. \nEste cineconcierto forma parte del ciclo de cine mudo con música en vivo que se celebra en Ferrol\, ofreciendo al público una oportunidad excepcional para disfrutar de clásicos del cine en un formato innovador. Una cita imprescindible para los amantes del séptimo arte y la música en la comarca de Ferrolterra.
URL:https://ocioenferrolterra.com/event/cineconcerto-el-maquinista-de-la-general-con-the-jazz-on-five/
CATEGORIES:Cine
ATTACH;FMTTYPE=image/jpeg:https://ocioenferrolterra.com/wp-content/uploads/2025/05/maquinista.jpg
END:VEVENT
BEGIN:VEVENT
DTSTART;TZID=Europe/Madrid:20250625T203000
DTEND;TZID=Europe/Madrid:20250625T220000
DTSTAMP:20260419T194921
CREATED:20250603T145058Z
LAST-MODIFIED:20250603T145101Z
UID:435-1750883400-1750888800@ocioenferrolterra.com
SUMMARY:El acantilado de la muerte – Clásicos inéditos en versión española
DESCRIPTION:📍 Lugar: Centro Cultural Torrente Ballester\, Ferrol📅 Fecha y hora: Miércoles 25 de junio de 2025\, a las 20:30 h🎟 Edad recomendada: Mayores de 12 años🎫 Entradas: Acceso libre hasta completar aforo🔗 Más info: ferrolcultura.gal \nDescripción del evento: \nDentro del ciclo «Clásicos inéditos en versión española»\, el Centro Cultural Torrente Ballester proyecta El acantilado de la muerte\, una película de suspense paranormal que\, pese a su calidad\, ha permanecido fuera del circuito comercial en España. Esta iniciativa busca recuperar y dar visibilidad a obras cinematográficas que\, por diversas razones\, no han sido distribuidas en nuestro país. \nLa sesión\, programada para el miércoles 25 de junio a las 20:30 h\, ofrece una oportunidad única para los amantes del cine de descubrir joyas ocultas del séptimo arte en un entorno cultural emblemático de Ferrol. La entrada es gratuita\, pero se recomienda llegar con antelación\, ya que el aforo es limitado.
URL:https://ocioenferrolterra.com/event/el-acantilado-de-la-muerte-clasicos-ineditos-en-version-espanola/
CATEGORIES:Cine
ATTACH;FMTTYPE=image/jpeg:https://ocioenferrolterra.com/wp-content/uploads/2025/06/acantilado.jpg
END:VEVENT
BEGIN:VEVENT
DTSTART;TZID=Europe/Madrid:20250626T190000
DTEND;TZID=Europe/Madrid:20250626T203000
DTSTAMP:20260419T194921
CREATED:20250607T091634Z
LAST-MODIFIED:20250611T130759Z
UID:621-1750964400-1750969800@ocioenferrolterra.com
SUMMARY:Humor y enredos con El hotel de los líos en la tercera sesión del ciclo sénior el 26 de junio
DESCRIPTION:El jueves 26 de junio a las 19:00 horas\, la tercera entrega del Ciclo de Cine Sénior llenará de risas el centro cívico Carvalho Calero con la proyección de El hotel de los líos (2023)\, comedia española protagonizada por José Mota y Pepe Viyuela. Una historia desenfadada\, llena de enredos\, niños traviesos y situaciones disparatadas\, ideal para cerrar el mes con buen humor. \nLa película\, dirigida por Ana Murugarren\, combina ritmo ágil y guiños clásicos del cine cómico\, y encaja perfectamente con el objetivo del ciclo: ofrecer entretenimiento de calidad a las personas mayores\, propiciar el encuentro social y reivindicar el disfrute colectivo del séptimo arte. \nOrganizado por el Concello de Ferrol en colaboración con la AVV del Ensanche A\, el ciclo se despide así hasta septiembre\, pero no sin antes invitar a seguir participando y a descubrir la valiosa videoteca vecinal que sirve como base para esta programación.
URL:https://ocioenferrolterra.com/event/ciclo-cine-senior-en-ferrol/
CATEGORIES:Cine
END:VEVENT
END:VCALENDAR