BEGIN:VCALENDAR
VERSION:2.0
PRODID:-//Ocio en Ferrolterra - ECPv6.15.13.1//NONSGML v1.0//EN
CALSCALE:GREGORIAN
METHOD:PUBLISH
X-WR-CALNAME:Ocio en Ferrolterra
X-ORIGINAL-URL:https://ocioenferrolterra.com
X-WR-CALDESC:Eventos para Ocio en Ferrolterra
REFRESH-INTERVAL;VALUE=DURATION:PT1H
X-Robots-Tag:noindex
X-PUBLISHED-TTL:PT1H
BEGIN:VTIMEZONE
TZID:Europe/Madrid
BEGIN:DAYLIGHT
TZOFFSETFROM:+0100
TZOFFSETTO:+0200
TZNAME:CEST
DTSTART:20240331T010000
END:DAYLIGHT
BEGIN:STANDARD
TZOFFSETFROM:+0200
TZOFFSETTO:+0100
TZNAME:CET
DTSTART:20241027T010000
END:STANDARD
BEGIN:DAYLIGHT
TZOFFSETFROM:+0100
TZOFFSETTO:+0200
TZNAME:CEST
DTSTART:20250330T010000
END:DAYLIGHT
BEGIN:STANDARD
TZOFFSETFROM:+0200
TZOFFSETTO:+0100
TZNAME:CET
DTSTART:20251026T010000
END:STANDARD
BEGIN:DAYLIGHT
TZOFFSETFROM:+0100
TZOFFSETTO:+0200
TZNAME:CEST
DTSTART:20260329T010000
END:DAYLIGHT
BEGIN:STANDARD
TZOFFSETFROM:+0200
TZOFFSETTO:+0100
TZNAME:CET
DTSTART:20261025T010000
END:STANDARD
END:VTIMEZONE
BEGIN:VEVENT
DTSTART;TZID=Europe/Madrid:20250703T223000
DTEND;TZID=Europe/Madrid:20250703T233000
DTSTAMP:20260419T181541
CREATED:20250702T105304Z
LAST-MODIFIED:20250702T105308Z
UID:1046-1751581800-1751585400@ocioenferrolterra.com
SUMMARY:Cine bajo las estrellas este jueves en Sequeiro con «Una familia de superhéroes»
DESCRIPTION:El cine al aire libre vuelve a Valdoviño este verano y lo hace\, como ya es tradición\, con una sesión nocturna pensada para disfrutar en familia. Este jueves 3 de julio\, a las 22:30 horas\, la alameda junto al local social de Sequeiro se convertirá en una improvisada sala de cine al aire libre para acoger la proyección de Una familia de superhéroes\, una cinta de animación con humor y mensaje que marca el arranque de la programación cultural de julio en el municipio. \nCon esta propuesta\, la Concejalía de Cultura continúa apostando por llevar el cine más allá del auditorio\, acercando las actividades a las parroquias y espacios menos habituales. Una fórmula que en veranos anteriores ha demostrado funcionar muy bien en Valdoviño\, gracias a la buena respuesta vecinal. \nLa película elegida\, dirigida por el noruego Rasmus A. Sivertsen\, ofrece una historia fresca y actual que conecta tanto con los más pequeños como con los adultos. La protagonista\, Hedvig\, es una niña de 11 años hija del superhéroe local Súper León. A pesar de que aún no está preparada para asumir el legado de su padre\, las circunstancias la obligarán a tomar el relevo antes de lo previsto. A través de su aventura\, la película plantea con humor cuestiones tan actuales como la presión de las redes sociales\, el culto a la perfección o el uso excesivo de dispositivos digitales en la infancia.
URL:https://ocioenferrolterra.com/event/cine-bajo-las-estrellas-este-jueves-en-sequeiro-con-una-familia-de-superheroes/
CATEGORIES:Cine
ATTACH;FMTTYPE=image/jpeg:https://ocioenferrolterra.com/wp-content/uploads/2025/07/cine-sequeiro.jpg
END:VEVENT
BEGIN:VEVENT
DTSTART;TZID=Europe/Madrid:20250709T193000
DTEND;TZID=Europe/Madrid:20250709T203000
DTSTAMP:20260419T181541
CREATED:20250708T093401Z
LAST-MODIFIED:20250708T093401Z
UID:1105-1752089400-1752093000@ocioenferrolterra.com
SUMMARY:Cedeira se va al cine este julio con cinco películas gratuitas para todos los públicos
DESCRIPTION:Este mes de julio\, las tardes de Cedeira vienen con palomitas. El Auditorio Municipal acoge desde el miércoles 9 el ciclo “Cedeira polo cine”\, una propuesta impulsada por el Consejo Local de Infancia y Adolescencia (CLIA) y aprobada por el pleno municipal\, que llenará de cine familiar la villa en cinco jornadas a lo largo del mes. Las sesiones son gratuitas y abiertas a todos los públicos\, siempre a las 19:30 horas. \nLa programación arranca el 9 de julio con el estreno de “Gru 4”\, donde los inseparables Minions vuelven a meterse en líos junto a Gru y su familia\, ahora enfrentados a un nuevo villano\, Maxime Le Mal. Una apuesta segura para abrir el ciclo con risas y acción. \nAl día siguiente\, el jueves 10\, la gran pantalla del auditorio acogerá “Cazafantasmas: Imperio helado”\, una secuela que une a las generaciones clásicas y actuales de la saga en una lucha por salvar al mundo de una nueva era glacial. Nostalgia y entretenimiento se dan la mano en esta nueva entrega del clásico ochentero. \nLa tercera sesión será el miércoles 16\, con “El Especialista”\, una cinta de acción y comedia protagonizada por un doble de riesgo que intenta recomponer su vida personal mientras se ve envuelto en una trama de desapariciones y conspiraciones hollywoodienses. \nEl jueves 17 se proyectará la primera película española del ciclo: “Menudas piezas”\, una comedia con trasfondo social que sigue a una profesora en crisis vital y profesional\, obligada a volver a sus raíces y enfrentarse a sus propios prejuicios. \nPor último\, el jueves 24 de julio\, se cierra el programa con “Cuerpo escombro”\, protagonizada por Dani Rovira\, que interpreta a un hombre dispuesto a todo por encontrar trabajo\, incluso fingir una discapacidad. Una comedia con crítica y ternura para poner el broche final a esta iniciativa. \n“Cedeira polo cine” combina entretenimiento\, cultura accesible y participación ciudadana\, reforzando la apuesta del municipio por una programación pensada también para el público joven.
URL:https://ocioenferrolterra.com/event/cedeira-se-va-al-cine-este-julio-con-cinco-peliculas-gratuitas-para-todos-los-publicos/
CATEGORIES:Cine
ATTACH;FMTTYPE=image/jpeg:https://ocioenferrolterra.com/wp-content/uploads/2025/07/Ciclo-de-cine-cedeira.jpg
END:VEVENT
END:VCALENDAR