BEGIN:VCALENDAR
VERSION:2.0
PRODID:-//Ocio en Ferrolterra - ECPv6.15.13.1//NONSGML v1.0//EN
CALSCALE:GREGORIAN
METHOD:PUBLISH
X-ORIGINAL-URL:https://ocioenferrolterra.com
X-WR-CALDESC:Eventos para Ocio en Ferrolterra
REFRESH-INTERVAL;VALUE=DURATION:PT1H
X-Robots-Tag:noindex
X-PUBLISHED-TTL:PT1H
BEGIN:VTIMEZONE
TZID:Europe/Madrid
BEGIN:DAYLIGHT
TZOFFSETFROM:+0100
TZOFFSETTO:+0200
TZNAME:CEST
DTSTART:20240331T010000
END:DAYLIGHT
BEGIN:STANDARD
TZOFFSETFROM:+0200
TZOFFSETTO:+0100
TZNAME:CET
DTSTART:20241027T010000
END:STANDARD
BEGIN:DAYLIGHT
TZOFFSETFROM:+0100
TZOFFSETTO:+0200
TZNAME:CEST
DTSTART:20250330T010000
END:DAYLIGHT
BEGIN:STANDARD
TZOFFSETFROM:+0200
TZOFFSETTO:+0100
TZNAME:CET
DTSTART:20251026T010000
END:STANDARD
BEGIN:DAYLIGHT
TZOFFSETFROM:+0100
TZOFFSETTO:+0200
TZNAME:CEST
DTSTART:20260329T010000
END:DAYLIGHT
BEGIN:STANDARD
TZOFFSETFROM:+0200
TZOFFSETTO:+0100
TZNAME:CET
DTSTART:20261025T010000
END:STANDARD
END:VTIMEZONE
BEGIN:VEVENT
DTSTART;TZID=Europe/Madrid:20250612T190000
DTEND;TZID=Europe/Madrid:20250612T203000
DTSTAMP:20260419T212549
CREATED:20250607T091221Z
LAST-MODIFIED:20250611T130252Z
UID:617-1749754800-1749760200@ocioenferrolterra.com
SUMMARY:Fellini abre el ciclo de cine sénior con La dolce vita el 12 de junio
DESCRIPTION:Este jueves 12 de junio a las 19:00 horas\, el centro cívico Carvalho Calero acoge la primera sesión del nuevo Ciclo de Cine Sénior\, una iniciativa del Concello de Ferrol en colaboración con la AVV del Ensanche A\, dirigida a las personas mayores de la ciudad. La película elegida para abrir el programa es todo un clásico: La dolce vita\, de Federico Fellini. \nPara esta primera jornada\, la proyección contará con una presentación a cargo de Aurora Vázquez\, licenciada en Geografía e Historia y monitora de cine\, quien ofrecerá una introducción contextualizada y moderará un pequeño coloquio posterior. La sesión busca ser algo más que cine: un espacio para reflexionar\, dialogar y compartir. \nCon esta propuesta\, el Concello quiere combatir la soledad no deseada\, fomentar la participación activa y visibilizar la rica videoteca vecinal del Ensanche A\, con más de 1.000 títulos. La actividad forma parte del compromiso de Ferrol como miembro de la Red Mundial de Ciudades Amigables con las Personas Mayores.
URL:https://ocioenferrolterra.com/event/ciclo-de-cine-senior-en-ferrol-la-dolce-vita/
CATEGORIES:Cine
END:VEVENT
END:VCALENDAR