BEGIN:VCALENDAR
VERSION:2.0
PRODID:-//Ocio en Ferrolterra - ECPv6.15.13.1//NONSGML v1.0//EN
CALSCALE:GREGORIAN
METHOD:PUBLISH
X-ORIGINAL-URL:https://ocioenferrolterra.com
X-WR-CALDESC:Eventos para Ocio en Ferrolterra
REFRESH-INTERVAL;VALUE=DURATION:PT1H
X-Robots-Tag:noindex
X-PUBLISHED-TTL:PT1H
BEGIN:VTIMEZONE
TZID:Europe/Madrid
BEGIN:DAYLIGHT
TZOFFSETFROM:+0100
TZOFFSETTO:+0200
TZNAME:CEST
DTSTART:20240331T010000
END:DAYLIGHT
BEGIN:STANDARD
TZOFFSETFROM:+0200
TZOFFSETTO:+0100
TZNAME:CET
DTSTART:20241027T010000
END:STANDARD
BEGIN:DAYLIGHT
TZOFFSETFROM:+0100
TZOFFSETTO:+0200
TZNAME:CEST
DTSTART:20250330T010000
END:DAYLIGHT
BEGIN:STANDARD
TZOFFSETFROM:+0200
TZOFFSETTO:+0100
TZNAME:CET
DTSTART:20251026T010000
END:STANDARD
BEGIN:DAYLIGHT
TZOFFSETFROM:+0100
TZOFFSETTO:+0200
TZNAME:CEST
DTSTART:20260329T010000
END:DAYLIGHT
BEGIN:STANDARD
TZOFFSETFROM:+0200
TZOFFSETTO:+0100
TZNAME:CET
DTSTART:20261025T010000
END:STANDARD
END:VTIMEZONE
BEGIN:VEVENT
DTSTART;TZID=Europe/Madrid:20250618T183000
DTEND;TZID=Europe/Madrid:20250618T200000
DTSTAMP:20260419T213010
CREATED:20250618T114931Z
LAST-MODIFIED:20250618T115105Z
UID:918-1750271400-1750276800@ocioenferrolterra.com
SUMMARY:La película 20.000 especies de abejas y coloquio este miércoles en Narón
DESCRIPTION:Este miércoles 18 de junio\, a las 18:30 h\, la sala Celeuma (Rúa Reis Magos 36-38\, Narón) se convierte en foro comunitario con la proyección de 20.000 especies de abejas y un coloquio posterior con su productor. La cita —enmarcada en el ciclo Orgullo Filmográfico de Avante LGBT+ Ferrolterra— acerca a la comarca un debate abierto sobre identidad y diversidad a través del lenguaje del cine. \nComo ya es costumbre en estas semanas previas al Día del Orgullo\, el colectivo local ha optado por un filme con fuerte arraigo social. La trama de Estibaliz Urresola sitúa a una niña en pleno descubrimiento de sí misma mientras su familia se replantea viejos esquemas; un espejo donde muchas personas de Ferrolterra pueden reconocerse. El diálogo con el propio productor al finalizar la sesión buscará precisamente esa conexión entre las historias que vemos en pantalla y las realidades que vivimos en la zona. \nLa película\, Biznaga de Oro en el Festival de Málaga y Premio a la Mejor Interpretación en la Berlinale\, se rodó entre Álava y Bizkaia\, pero sus preguntas —¿Quiénes somos? ¿Cómo nos nombramos?— trascienden fronteras. En Narón se proyectará en versión original en castellano\, detalle que refuerza la cercanía del relato y permitirá profundizar\, durante el coloquio\, en las decisiones creativas y en el impacto que el film ha tenido en festivales de todo el mundo. \nLa sesión está pensada para un público adulto y cuenta con aforo limitado. Una propuesta perfecta para quienes buscan algo más que entretenimiento: la oportunidad de escuchar al equipo detrás de la cámara y sumarse a un debate que sigue creciendo en la ciudad.
URL:https://ocioenferrolterra.com/event/la-pelicula-20-000-especies-de-abejas-y-coloquio-este-miercoles-en-naron/
CATEGORIES:Cine
ATTACH;FMTTYPE=image/jpeg:https://ocioenferrolterra.com/wp-content/uploads/2025/06/20000-abejas-cine.jpg
END:VEVENT
END:VCALENDAR