BEGIN:VCALENDAR
VERSION:2.0
PRODID:-//Ocio en Ferrolterra - ECPv6.15.13.1//NONSGML v1.0//EN
CALSCALE:GREGORIAN
METHOD:PUBLISH
X-ORIGINAL-URL:https://ocioenferrolterra.com
X-WR-CALDESC:Eventos para Ocio en Ferrolterra
REFRESH-INTERVAL;VALUE=DURATION:PT1H
X-Robots-Tag:noindex
X-PUBLISHED-TTL:PT1H
BEGIN:VTIMEZONE
TZID:Europe/Madrid
BEGIN:DAYLIGHT
TZOFFSETFROM:+0100
TZOFFSETTO:+0200
TZNAME:CEST
DTSTART:20240331T010000
END:DAYLIGHT
BEGIN:STANDARD
TZOFFSETFROM:+0200
TZOFFSETTO:+0100
TZNAME:CET
DTSTART:20241027T010000
END:STANDARD
BEGIN:DAYLIGHT
TZOFFSETFROM:+0100
TZOFFSETTO:+0200
TZNAME:CEST
DTSTART:20250330T010000
END:DAYLIGHT
BEGIN:STANDARD
TZOFFSETFROM:+0200
TZOFFSETTO:+0100
TZNAME:CET
DTSTART:20251026T010000
END:STANDARD
BEGIN:DAYLIGHT
TZOFFSETFROM:+0100
TZOFFSETTO:+0200
TZNAME:CEST
DTSTART:20260329T010000
END:DAYLIGHT
BEGIN:STANDARD
TZOFFSETFROM:+0200
TZOFFSETTO:+0100
TZNAME:CET
DTSTART:20261025T010000
END:STANDARD
END:VTIMEZONE
BEGIN:VEVENT
DTSTART;TZID=Europe/Madrid:20250524T130000
DTEND;TZID=Europe/Madrid:20250524T220000
DTSTAMP:20260424T053955
CREATED:20250521T144952Z
LAST-MODIFIED:20250521T144952Z
UID:144-1748091600-1748124000@ocioenferrolterra.com
SUMMARY:Festa dos Callos de San Xoán de Filgueira 2025
DESCRIPTION:📍 Lugar: Praza Rosalía de Castro\, barrio de San Xoán de Filgueira\, Ferrol📅 Fecha y hora: Sábado 24 de mayo de 2025\, a partir de las 13:00 h🎫 Entradas: Ración de callos: 8 € | Pan con chorizo: 6 € | También disponibles para llevar \nDescripción del evento: \nEl barrio ferrolano de San Xoán de Filgueira celebra este sábado una de sus citas gastronómicas más esperadas: la Festa dos Callos. A partir de la una de la tarde\, la Praza Rosalía de Castro se llenará del aroma tradicional de este plato gallego\, con raciones a precios populares y opción para llevar. \nLa jornada estará amenizada por la música en directo de la cantante Almudena y la formación Los Alcántara\, que pondrán ritmo al tardeo festivo. \nEsta fiesta\, organizada por la Comisión de Fiestas de San Xoán de Filgueira\, es una excelente oportunidad para disfrutar de la gastronomía local y del ambiente festivo característico de la comarca de Ferrolterra.
URL:https://ocioenferrolterra.com/event/festa-dos-callos-de-san-xoan-de-filgueira-2025/
CATEGORIES:Concierto,Gastronomía
ATTACH;FMTTYPE=image/jpeg:https://ocioenferrolterra.com/wp-content/uploads/2025/05/callos.jpg
END:VEVENT
BEGIN:VEVENT
DTSTART;TZID=Europe/Madrid:20250524T193000
DTEND;TZID=Europe/Madrid:20250524T223000
DTSTAMP:20260424T053955
CREATED:20250523T085932Z
LAST-MODIFIED:20250523T090250Z
UID:261-1748115000-1748125800@ocioenferrolterra.com
SUMMARY:Montefaro Enduro Fest 2025
DESCRIPTION:📍 Lugar: Parque Rosalía de Castro\, Ares📅 Fecha y hora: Sábado 24 de mayo de 2025\, desde las 16:00 h🎟 Edad recomendada: Público general🎫 Entradas: Acceso libre🔗 Más info: Concello de Ares \nDescripción del evento: \nLa víspera de la Montefaro Enduro Race\, Ares calienta motores con el Montefaro Enduro Fest\, una jornada festiva pensada para participantes y vecinos con ganas de disfrutar del mejor ambiente biker. Desde las 16:00 h\, el Parque Rosalía de Castro se convierte en punto de encuentro para la recogida de dorsales\, que se extenderá hasta las 20:30 h. \nA partir de las 19:30 h\, la música en directo del grupo Sintrom animará la tarde con un concierto al aire libre que promete poner ritmo a esta previa deportiva. Además\, habrá una churrascada popular organizada por el Club de Remo de Ares\, perfecta para reponer fuerzas y compartir buenos momentos entre deportistas\, organizadores y público.
URL:https://ocioenferrolterra.com/event/montefaro-enduro-fest-2025/
CATEGORIES:Concierto,Gastronomía
ATTACH;FMTTYPE=image/jpeg:https://ocioenferrolterra.com/wp-content/uploads/2025/05/endurofest.jpg
END:VEVENT
BEGIN:VEVENT
DTSTART;TZID=Europe/Madrid:20250531T100000
DTEND;TZID=Europe/Madrid:20250531T210000
DTSTAMP:20260424T053955
CREATED:20250521T150833Z
LAST-MODIFIED:20250521T150833Z
UID:156-1748685600-1748725200@ocioenferrolterra.com
SUMMARY:Prefesta de San Xoán de Esmelle 2025
DESCRIPTION:📍 Lugar: Local Social de Esmelle\, Ferrol📅 Fecha y hora: Sábado 31 de mayo de 2025\, desde las 10:00 h🎫 Entradas: Comida: 25 € | Resto de actividades gratuitas \nDescripción del evento: \nLa parroquia de Esmelle\, en Ferrol\, da la bienvenida a las celebraciones de San Xoán con su tradicional Prefesta\, una jornada repleta de actividades para todas las edades. El evento comenzará a las 10:00 h con una andaina solidaria\, seguida a las 11:00 h por una ruta BTT que recorrerá los paisajes de la comarca de Ferrolterra. A las 13:30 h\, la sesión vermú estará amenizada por el músico Alex\, y a las 14:15 h se presentará el cartel oficial de las fiestas de San Xoán 2025. La comida popular dará inicio a las 14:30 h\, con un menú completo por 25 €. \nPor la tarde\, la música continuará con la actuación de la Banda Terrqa de Trasancos a las 19:00 h\, seguida a las 20:30 h por una degustación de liscos. La jornada culminará con una verbena animada por Alex a partir de las 21:30 h. Además\, durante todo el día habrá hinchables para los más pequeños y sorteos de regalos\, creando un ambiente festivo y familiar. \nEsta Prefesta es una excelente oportunidad para disfrutar de las tradiciones gallegas y del espíritu comunitario de Esmelle\, anticipando las festividades de San Xoán en la comarca de Ferrol.
URL:https://ocioenferrolterra.com/event/prefesta-de-san-xoan-de-esmelle-2025/
CATEGORIES:Concierto,Gastronomía
ATTACH;FMTTYPE=image/jpeg:https://ocioenferrolterra.com/wp-content/uploads/2025/05/presanxoan.jpg
END:VEVENT
END:VCALENDAR