BEGIN:VCALENDAR
VERSION:2.0
PRODID:-//Ocio en Ferrolterra - ECPv6.15.13.1//NONSGML v1.0//EN
CALSCALE:GREGORIAN
METHOD:PUBLISH
X-WR-CALNAME:Ocio en Ferrolterra
X-ORIGINAL-URL:https://ocioenferrolterra.com
X-WR-CALDESC:Eventos para Ocio en Ferrolterra
REFRESH-INTERVAL;VALUE=DURATION:PT1H
X-Robots-Tag:noindex
X-PUBLISHED-TTL:PT1H
BEGIN:VTIMEZONE
TZID:Europe/Madrid
BEGIN:DAYLIGHT
TZOFFSETFROM:+0100
TZOFFSETTO:+0200
TZNAME:CEST
DTSTART:20240331T010000
END:DAYLIGHT
BEGIN:STANDARD
TZOFFSETFROM:+0200
TZOFFSETTO:+0100
TZNAME:CET
DTSTART:20241027T010000
END:STANDARD
BEGIN:DAYLIGHT
TZOFFSETFROM:+0100
TZOFFSETTO:+0200
TZNAME:CEST
DTSTART:20250330T010000
END:DAYLIGHT
BEGIN:STANDARD
TZOFFSETFROM:+0200
TZOFFSETTO:+0100
TZNAME:CET
DTSTART:20251026T010000
END:STANDARD
BEGIN:DAYLIGHT
TZOFFSETFROM:+0100
TZOFFSETTO:+0200
TZNAME:CEST
DTSTART:20260329T010000
END:DAYLIGHT
BEGIN:STANDARD
TZOFFSETFROM:+0200
TZOFFSETTO:+0100
TZNAME:CET
DTSTART:20261025T010000
END:STANDARD
END:VTIMEZONE
BEGIN:VEVENT
DTSTART;TZID=Europe/Madrid:20250712T090000
DTEND;TZID=Europe/Madrid:20250712T233000
DTSTAMP:20260419T152743
CREATED:20250623T145245Z
LAST-MODIFIED:20250623T145318Z
UID:974-1752310800-1752363000@ocioenferrolterra.com
SUMMARY:Andrade celebra su fiesta en honor a la Virxe do Leite con música y churrascada el 12 de julio
DESCRIPTION:El próximo sábado 12 de julio\, la parroquia de Andrade\, en el municipio de Pontedeume\, celebrará sus fiestas patronales en honor a la Virxe do Leite\, una jornada cargada de tradición\, música y buen ambiente en uno de los enclaves con más vida social del entorno eumés. \nLos actos comenzarán a las 9:00 horas con la tradicional alborada\, que recorrerá la parroquia anunciando el inicio del día festivo. A las 13:15 horas tendrá lugar la misa solemne dedicada a la Virgen\, seguida de una animada sesión vermú amenizada por el Dúo Boreal\, que pondrá la nota musical al mediodía. \nPor la tarde\, a las 21:00 horas\, el propio Dúo Boreal volverá a los escenarios con una sesión de tardeo\, ideal para ir calentando motores antes de la gran cita gastronómica del día: la churrascada popular\, que comenzará a las 21:30 horas. Por 16 euros\, los asistentes podrán degustar churrasco con cachelos\, pan\, vino o agua\, postre y café\, en una cena comunitaria pensada para compartir y disfrutar en compañía. \nTras la cena\, la fiesta continuará con música en vivo a cargo del grupo Tapyöka\, que se unirá al Dúo Boreal para alargar la velada hasta bien entrada la noche.
URL:https://ocioenferrolterra.com/event/andrade-celebra-su-fiesta-en-honor-a-la-virxe-do-leite-con-musica-y-churrascada-el-12-de-julio/
CATEGORIES:Fiestas,Gastronomía
ATTACH;FMTTYPE=image/jpeg:https://ocioenferrolterra.com/wp-content/uploads/2025/06/andrade-2025.jpg
END:VEVENT
BEGIN:VEVENT
DTSTART;TZID=Europe/Madrid:20250712T120000
DTEND;TZID=Europe/Madrid:20250712T180000
DTSTAMP:20260419T152743
CREATED:20250708T092258Z
LAST-MODIFIED:20250708T092258Z
UID:1102-1752321600-1752343200@ocioenferrolterra.com
SUMMARY:El pulpo vuelve a reinar en Mugardos este sábado con la 33ª Festa do Polbo
DESCRIPTION:Este sábado 12 de julio\, Mugardos se convierte una vez más en la capital del sabor marinero con la celebración de la 33ª Festa do Polbo\, una de las citas gastronómicas más esperadas del verano en Ferrolterra. Con el puerto como epicentro\, esta tradicional fiesta organizada por el Concello de Mugardos recupera su formato habitual\, combinando cocina popular\, organización eficiente y un ambiente que atrae tanto a locales como a visitantes de toda la comarca. \nEl protagonista indiscutible vuelve a ser el emblemático polbo á mugardesa\, una receta que distingue a esta localidad del resto de Galicia. Las raciones podrán adquirirse previa compra de ticket\, al precio de 14 euros\, mientras que también se servirá empanada por 4 euros. Las entradas estarán disponibles del 8 al 10 de julio en la Oficina de Recadación Municipal (Rúa Corzás\, 6\, de 9:00 a 14:00)\, y también el viernes 11 (de 18:00 a 21:00) y el mismo sábado 12 (de 10:00 a 17:00) en la Oficina de Turismo de la Avenida do Mar (Casa do Reloxo). \nPara evitar aglomeraciones\, el reparto de raciones se organizará por turnos horarios en dos zonas diferenciadas. Las franjas\, que van desde las 12:00 hasta las 18:00 horas\, permitirán una degustación más cómoda y ordenada. Tanto el pulpo como la empanada seguirán el mismo sistema de distribución escalonada. \nLa Festa do Polbo no es solo una degustación\, sino también una celebración colectiva que pone en valor la cultura marinera de Mugardos. Aunque el foco está en la gastronomía\, el ambiente festivo se vive desde primera hora\, con el puerto decorado\, la música tradicional sonando y el ir y venir constante de vecinos\, peñas y familias enteras que cada año repiten cita.
URL:https://ocioenferrolterra.com/event/el-pulpo-vuelve-a-reinar-en-mugardos-este-sabado-con-la-33a-festa-do-polbo/
CATEGORIES:Gastronomía
ATTACH;FMTTYPE=image/jpeg:https://ocioenferrolterra.com/wp-content/uploads/2025/07/festa-polbo-mugardos-2025.jpg
END:VEVENT
BEGIN:VEVENT
DTSTART;TZID=Europe/Madrid:20250715T220000
DTEND;TZID=Europe/Madrid:20250716T233000
DTSTAMP:20260419T152743
CREATED:20250612T131514Z
LAST-MODIFIED:20250612T131514Z
UID:859-1752616800-1752708600@ocioenferrolterra.com
SUMMARY:Neda celebra as Festas da Virxe do Carme con música\, verbena e sardiñada popular
DESCRIPTION:Os días 15 e 16 de xullo\, a vila de Neda vivirá dúas noites festivas para celebrar as Festas da Virxe do Carme\, unha das datas máis sinaladas do verán no municipio. O Concello xa ultima os preparativos dunha programación sinxela pero animada\, pensada para reunir á veciñanza arredor da música e a gastronomía popular. \nAs celebracións comezarán o martes 15 de xullo\, cunha primeira noite de verbena amenizada polo Dúo Boreal\, que ofrecerá un repertorio variado para abrir o ambiente festivo\, e co DJ Sonorama\, que continuará coa sesión musical ata entrada a madrugada. \nO día grande será o mércores 16 de xullo\, cando se celebrará a tradicional sardiñada popular\, un dos momentos máis agardados destas festas. A cita estará acompañada pola actuación en directo do grupo No Cómbaro\, que porá música á cea co seu estilo animado. \nA verbena da noite correrá a cargo do grupo Pasión\, unha formación habitual das festas galegas que traerá unha posta en escena completa con baile\, luces e ritmo para todas as idades. O DJ Sonomara será o encargado de pechar a xornada cunha sesión musical pensada para prolongar a festa ata ben entrada a noite. \nCon esta proposta\, Neda aposta por unhas festas participativas\, próximas e enraizadas na súa tradición mariñeira\, co Carme como símbolo de identidade comunitaria. Dúas noites para gozar da música ao aire libre e da compañía da xente\, nun ambiente festivo que cada ano reúne a centos de persoas no centro da vila.
URL:https://ocioenferrolterra.com/event/neda-celebra-as-festas-da-virxe-do-carme-con-musica-verbena-e-sardinada-popular/
CATEGORIES:Fiestas,Gastronomía
END:VEVENT
END:VCALENDAR