BEGIN:VCALENDAR
VERSION:2.0
PRODID:-//Ocio en Ferrolterra - ECPv6.15.13.1//NONSGML v1.0//EN
CALSCALE:GREGORIAN
METHOD:PUBLISH
X-ORIGINAL-URL:https://ocioenferrolterra.com
X-WR-CALDESC:Eventos para Ocio en Ferrolterra
REFRESH-INTERVAL;VALUE=DURATION:PT1H
X-Robots-Tag:noindex
X-PUBLISHED-TTL:PT1H
BEGIN:VTIMEZONE
TZID:Europe/Madrid
BEGIN:DAYLIGHT
TZOFFSETFROM:+0100
TZOFFSETTO:+0200
TZNAME:CEST
DTSTART:20240331T010000
END:DAYLIGHT
BEGIN:STANDARD
TZOFFSETFROM:+0200
TZOFFSETTO:+0100
TZNAME:CET
DTSTART:20241027T010000
END:STANDARD
BEGIN:DAYLIGHT
TZOFFSETFROM:+0100
TZOFFSETTO:+0200
TZNAME:CEST
DTSTART:20250330T010000
END:DAYLIGHT
BEGIN:STANDARD
TZOFFSETFROM:+0200
TZOFFSETTO:+0100
TZNAME:CET
DTSTART:20251026T010000
END:STANDARD
BEGIN:DAYLIGHT
TZOFFSETFROM:+0100
TZOFFSETTO:+0200
TZNAME:CEST
DTSTART:20260329T010000
END:DAYLIGHT
BEGIN:STANDARD
TZOFFSETFROM:+0200
TZOFFSETTO:+0100
TZNAME:CET
DTSTART:20261025T010000
END:STANDARD
END:VTIMEZONE
BEGIN:VEVENT
DTSTART;TZID=Europe/Madrid:20250607T120000
DTEND;TZID=Europe/Madrid:20250607T120000
DTSTAMP:20260424T054342
CREATED:20250530T093139Z
LAST-MODIFIED:20250605T092715Z
UID:347-1749297600-1749297600@ocioenferrolterra.com
SUMMARY:Festa do Marisco en Xuvia 2025
DESCRIPTION:📍 Lugar: Paseo marítimo de Xuvia\, Narón📅 Fecha y hora: Sábado 7 de junio de 2025\, desde las 12:00 h🎟 Edad recomendada: Todas las edades🎫 Entradas: Degustaciones entre 6 y 15 €; tickets disponibles en la carpa el mismo día🔗 Más info: naron.gal \nDescripción del evento: \nEl paseo marítimo de Xuvia se convertirá este sábado 7 de junio en el epicentro del sabor con la celebración de la Festa do Marisco\, organizada por el Concello de Narón y la Cofradía de Pescadores Santiago Apóstol de Barallobre. Bajo una gran carpa con capacidad para 600 comensales\, se ofrecerán raciones de vieiras\, navajas y paella de marisco\, con precios que oscilarán entre los 6 y 15 euros. \nAdemás\, se realizarán dos degustaciones gratuitas a cargo de un chef de la comarca\, a las 12:00 y a las 18:30 horas\, donde se explicará la preparación del carneiro\, un marisco tradicional de la zona. La jornada también contará con un stand de productos de la cofradía y una zona de hinchables para los más pequeños.
URL:https://ocioenferrolterra.com/event/festa-do-marisco-en-xuvia-2025/
CATEGORIES:Gastronomía
ATTACH;FMTTYPE=image/jpeg:https://ocioenferrolterra.com/wp-content/uploads/2025/05/festamariscoxuvia.jpg
END:VEVENT
BEGIN:VEVENT
DTSTART;TZID=Europe/Madrid:20250607T133000
DTEND;TZID=Europe/Madrid:20250607T180000
DTSTAMP:20260424T054342
CREATED:20250603T131441Z
LAST-MODIFIED:20250603T131441Z
UID:429-1749303000-1749319200@ocioenferrolterra.com
SUMMARY:Churrascada en Mandiá 2025
DESCRIPTION:📍 Lugar: Mandiá\, Ferrol📅 Fecha y hora: Sábado 7 de junio de 2025\, desde las 13:30 h🎟 Edad recomendada: Para todos los públicos🎫 Entradas: 18 € por persona (incluye menú completo) \nDescripción del evento: \nEl próximo sábado\, el núcleo rural de Mandiá (Ferrol) acoge una gran churrascada bajo carpa\, pensada para disfrutar en buena compañía y con sabor gallego. La jornada comenzará a las 13:30 h con una animada sesión vermú a cargo de la artista María\, que dará paso a la comida a partir de las 14:30 h. \nEl menú incluirá churrasco\, criollo\, patatas\, pan\, vino\, agua y café\, todo por 18 euros. Tras la sobremesa\, la fiesta continuará con sorteos y buen ambiente\, haciendo de esta cita una propuesta gastronómica y social ideal para vecinos y visitantes.
URL:https://ocioenferrolterra.com/event/churrascada-en-mandia-2025/
CATEGORIES:Gastronomía
ATTACH;FMTTYPE=image/jpeg:https://ocioenferrolterra.com/wp-content/uploads/2025/06/chrrmandia.jpg
END:VEVENT
BEGIN:VEVENT
DTSTART;TZID=Europe/Madrid:20250607T140000
DTEND;TZID=Europe/Madrid:20250607T170000
DTSTAMP:20260424T054342
CREATED:20250606T150631Z
LAST-MODIFIED:20250606T150633Z
UID:550-1749304800-1749315600@ocioenferrolterra.com
SUMMARY:XI Xuntanza de Grupos Tradicionais en Cerdido
DESCRIPTION:📍 Lugar: Área Recreativa O Castro\, Cerdido📅 Fecha y hora: Sábado 7 de junio de 2025\, desde las 14:00 h🎟 Edad recomendada: Para todos los públicos🎫 Entradas: Comida popular: 20 € (alumnos)\, 23 € (socios)\, 15 € (menores de 12 años) \nDescripción del evento: \nLa música tradicional gallega se da cita en Cerdido con la XI Xuntanza de Grupos Tradicionais\, un evento que se consolida como una de las grandes celebraciones culturales de la zona. Organizado por la Sociedad Cultural Airiños dos Carrís\, el encuentro se desarrollará en el entorno natural del Área Recreativa O Castro\, ofreciendo una jornada de folclore\, gastronomía y convivencia al aire libre. \nLa fiesta comenzará a las 14:00 horas con una animada sesión vermú a cargo de la Charanga Alxibeira de Narón\, seguida de una comida popular a las 15:00 h con un completo menú típico gallego. Por la tarde\, el protagonismo será para la música y el baile tradicional\, con actuaciones destacadas como la del grupo Os Xinxeliños de Cedeira\, además del encuentro folclórico con Álvaro Cunqueiro (Lugo) y la Asociación Lusco e Fusco (Vilalba). \nA las 21:00 horas\, Os D’Abaixo y A Requinta de Lampai pondrán el broche final a un día muy especial\, que culminará con una foliada libre para quienes quieran seguir bailando. Durante toda la jornada\, habrá puestos de artesanía\, completando una oferta perfecta para disfrutar en familia o con amigos de la cultura popular en el corazón de Ferrolterra.
URL:https://ocioenferrolterra.com/event/xi-xuntanza-de-grupos-tradicionais-en-cerdido/
CATEGORIES:Actuaciones,Gastronomía
ATTACH;FMTTYPE=image/jpeg:https://ocioenferrolterra.com/wp-content/uploads/2025/06/grupos-tradicionais-cerdido.jpg
END:VEVENT
END:VCALENDAR