BEGIN:VCALENDAR
VERSION:2.0
PRODID:-//Ocio en Ferrolterra - ECPv6.15.13.1//NONSGML v1.0//EN
CALSCALE:GREGORIAN
METHOD:PUBLISH
X-ORIGINAL-URL:https://ocioenferrolterra.com
X-WR-CALDESC:Eventos para Ocio en Ferrolterra
REFRESH-INTERVAL;VALUE=DURATION:PT1H
X-Robots-Tag:noindex
X-PUBLISHED-TTL:PT1H
BEGIN:VTIMEZONE
TZID:Europe/Madrid
BEGIN:DAYLIGHT
TZOFFSETFROM:+0100
TZOFFSETTO:+0200
TZNAME:CEST
DTSTART:20240331T010000
END:DAYLIGHT
BEGIN:STANDARD
TZOFFSETFROM:+0200
TZOFFSETTO:+0100
TZNAME:CET
DTSTART:20241027T010000
END:STANDARD
BEGIN:DAYLIGHT
TZOFFSETFROM:+0100
TZOFFSETTO:+0200
TZNAME:CEST
DTSTART:20250330T010000
END:DAYLIGHT
BEGIN:STANDARD
TZOFFSETFROM:+0200
TZOFFSETTO:+0100
TZNAME:CET
DTSTART:20251026T010000
END:STANDARD
BEGIN:DAYLIGHT
TZOFFSETFROM:+0100
TZOFFSETTO:+0200
TZNAME:CEST
DTSTART:20260329T010000
END:DAYLIGHT
BEGIN:STANDARD
TZOFFSETFROM:+0200
TZOFFSETTO:+0100
TZNAME:CET
DTSTART:20261025T010000
END:STANDARD
END:VTIMEZONE
BEGIN:VEVENT
DTSTART;TZID=Europe/Madrid:20250612T190000
DTEND;TZID=Europe/Madrid:20250615T230000
DTSTAMP:20260424T054502
CREATED:20250607T083918Z
LAST-MODIFIED:20250611T124912Z
UID:610-1749754800-1750028400@ocioenferrolterra.com
SUMMARY:Burger Experience llega a Ferrol con cuatro días dedicados a las mejores hamburguesas del país
DESCRIPTION:Del miércoles 12 al sábado 15 de junio\, el antiguo campo de fútbol de San Xoán\, en Ferrol\, se convertirá en el epicentro del sabor con la celebración de la Burger Experience\, un festival gastronómico al aire libre centrado en uno de los platos más populares y versátiles: la hamburguesa. \nDurante cuatro jornadas\, food trucks de toda España servirán sus mejores propuestas —desde las más clásicas hasta las más innovadoras— en un ambiente pensado para todos los públicos. El acceso será gratuito hasta completar aforo\, así que se recomienda llegar pronto para evitar colas. \nEl horario del evento será: \n\n\nJueves 12: de 19:00 a 23:00 h \n\n\nViernes 13: de 19:00 a 01:00 h \n\n\nSábado 14: de 13:00 a 01:00 h \n\n\nDomingo 15: de 13:00 a 23:00 h \n\n\nEl recinto será accesible para personas con movilidad reducida y pet friendly\, por lo que se anima a acudir en familia o con amigos —incluidos los de cuatro patas— a disfrutar de buena comida\, ambiente distendido y propuestas culinarias de calidad. \nAdemás de hamburguesas gourmet\, se espera una oferta variada de bebidas\, música ambiental y una experiencia que combina ocio\, gastronomía y calle. Una excusa perfecta para pasar un rato diferente al aire libre sin salir de la ciudad.
URL:https://ocioenferrolterra.com/event/burger-experience-en-ferrol/
CATEGORIES:Gastronomía
ATTACH;FMTTYPE=image/jpeg:https://ocioenferrolterra.com/wp-content/uploads/2025/06/burger-experience-ferrol.jpg
END:VEVENT
BEGIN:VEVENT
DTSTART;TZID=Europe/Madrid:20250613T110000
DTEND;TZID=Europe/Madrid:20250613T120000
DTSTAMP:20260424T054502
CREATED:20250606T090147Z
LAST-MODIFIED:20250611T131332Z
UID:521-1749812400-1749816000@ocioenferrolterra.com
SUMMARY:Cociña en directo e sabor do mar no Showcooking Mariñeiro de Ferrol
DESCRIPTION:Este xoves 13 de xuño\, a sala Curuxeiras da Autoridade Portuaria de Ferrol acollerá un evento gastronómico moi especial: o Showcooking Mariñeiro\, unha actividade pensada para o público adulto que mestura cociña en directo\, formación culinaria e degustación final de pratos elaborados con sabor a mar. \nA cita dará comezo ás 11:00 horas e contará coa participación de tres chefs locais con experiencia e personalidade: Álvaro\, Dani e Queca\, integrantes da asociación de hostalería Fervello\, que serán os encargados de conducir a sesión. A actividade forma parte do proxecto Nós Mariñeir@s\, promovido polo Concello de Ferrol e financiado con fondos europeos a través do FEMPA (Fondo Europeo Marítimo\, de Pesca e de Acuicultura) e o GALP Golfo Ártabro Norte. \nTras o éxito dos obradoiros infantís organizados anteriormente\, esta nova sesión está dirixida a persoas adultas interesadas na cociña tradicional mariñeira\, nos produtos locais e na posta en valor da cultura gastronómica ligada ao mar. \nA actividade é gratuíta\, pero conta con aforo limitado a 30 prazas\, polo que é preciso inscribirse previamente a través do Whatsapp 604 046 359. As prazas asignaranse por orde de solicitude ata completar o cupo. \nUnha oportunidade para aprender\, saborear e coñecer máis de preto a tradición mariñeira de Ferrol dende os fogóns. Para máis información\, tamén se pode contactar co equipo organizador en nosmarineiros@ferrol.es.
URL:https://ocioenferrolterra.com/event/showcooking-marineiro-en-ferrol/
CATEGORIES:Gastronomía
ATTACH;FMTTYPE=image/jpeg:https://ocioenferrolterra.com/wp-content/uploads/2025/06/showcooking.jpg
END:VEVENT
END:VCALENDAR