BEGIN:VCALENDAR
VERSION:2.0
PRODID:-//Ocio en Ferrolterra - ECPv6.15.13.1//NONSGML v1.0//EN
CALSCALE:GREGORIAN
METHOD:PUBLISH
X-ORIGINAL-URL:https://ocioenferrolterra.com
X-WR-CALDESC:Eventos para Ocio en Ferrolterra
REFRESH-INTERVAL;VALUE=DURATION:PT1H
X-Robots-Tag:noindex
X-PUBLISHED-TTL:PT1H
BEGIN:VTIMEZONE
TZID:Europe/Madrid
BEGIN:DAYLIGHT
TZOFFSETFROM:+0100
TZOFFSETTO:+0200
TZNAME:CEST
DTSTART:20240331T010000
END:DAYLIGHT
BEGIN:STANDARD
TZOFFSETFROM:+0200
TZOFFSETTO:+0100
TZNAME:CET
DTSTART:20241027T010000
END:STANDARD
BEGIN:DAYLIGHT
TZOFFSETFROM:+0100
TZOFFSETTO:+0200
TZNAME:CEST
DTSTART:20250330T010000
END:DAYLIGHT
BEGIN:STANDARD
TZOFFSETFROM:+0200
TZOFFSETTO:+0100
TZNAME:CET
DTSTART:20251026T010000
END:STANDARD
BEGIN:DAYLIGHT
TZOFFSETFROM:+0100
TZOFFSETTO:+0200
TZNAME:CEST
DTSTART:20260329T010000
END:DAYLIGHT
BEGIN:STANDARD
TZOFFSETFROM:+0200
TZOFFSETTO:+0100
TZNAME:CET
DTSTART:20261025T010000
END:STANDARD
END:VTIMEZONE
BEGIN:VEVENT
DTSTART;TZID=Europe/Madrid:20250620T200000
DTEND;TZID=Europe/Madrid:20250622T170000
DTSTAMP:20260424T054313
CREATED:20250606T160303Z
LAST-MODIFIED:20250606T160305Z
UID:604-1750449600-1750611600@ocioenferrolterra.com
SUMMARY:Festas do Corpus Christi en Valdoviño
DESCRIPTION:📍 Lugar: Valdoviño 📅 Fecha y hora: Del viernes 20 al domingo 22 de junio de 2025🎫 Entradas: Actividades gratuitas (comida a precios populares)🎟 Edad recomendada: Para todos los públicos \nDescripción del evento: \nLa localidad de Valdoviño se prepara para vivir un fin de semana de celebración con motivo de las festas do Corpus Christi\, una cita que combina tradición religiosa\, música en directo y propuestas gastronómicas para disfrutar en comunidad. \nEl viernes 20 de junio\, los festejos arrancan a las 20:00 h con una gran liscada a precios populares. A partir de las 23:00 h\, el solista Álex pondrá música a la primera noche de fiesta. \nEl sábado 21\, los actos comenzarán a las 13:30 h con misa solemne y\, tras la ceremonia\, gran tirada de fuegos artificiales y sesión vermú con el grupo Ritmo. Por la tarde\, un grupo de gaiteiros recorrerá las calles y\, por la noche\, la verbena estará animada por los grupos Ritmo y Punto Clave. \nEl domingo 22 se celebrará la última jornada con nueva tirada de fuegos a las 14:00 h y sesión vermú larga con el grupo Unión y Fuerza. Durante el evento\, también se servirán pinchos para todos los asistentes.
URL:https://ocioenferrolterra.com/event/festas-do-corpus-christi-en-valdovino/
CATEGORIES:Fiestas,Gastronomía
ATTACH;FMTTYPE=image/jpeg:https://ocioenferrolterra.com/wp-content/uploads/2025/06/festas-corpus-25.jpg
END:VEVENT
BEGIN:VEVENT
DTSTART;TZID=Europe/Madrid:20250620T213000
DTEND;TZID=Europe/Madrid:20250621T200000
DTSTAMP:20260424T054313
CREATED:20250606T145330Z
LAST-MODIFIED:20250606T145332Z
UID:535-1750455000-1750536000@ocioenferrolterra.com
SUMMARY:Fiestas de Iris en Cabana de Bergantiños
DESCRIPTION:📍 Lugar: Iris\, Cabana de Bergantiños📅 Fecha y hora: Viernes 20 y sábado 21 de junio de 2025🎫 Entradas: Liscos gratis el viernes; xantar del sábado: 30 € \nDescripción del evento: \nLa parroquia de Iris\, en el municipio de Cabana de Bergantiños\, se prepara para celebrar sus fiestas patronales con una combinación de tradición\, gastronomía y buena música. Dos jornadas festivas pensadas para disfrutar en comunidad\, con propuestas para todos los públicos. \nEl viernes 20 de junio arrancará la fiesta a partir de las 21:30 horas con una degustación gratuita de liscos\, un clásico de las verbenas gallegas. La noche continuará con la actuación de la orquesta Panamá y la música del DJ Jalaiko\, asegurando un ambiente animado hasta bien entrada la madrugada. \nEl sábado 21 será el día grande\, con sesión vermú a cargo de Julio Milamores a las 13:30 horas. A las 14:30 se servirá un completo xantar popular que incluirá pulpo á feira\, churrasco\, criollo\, empanada y más delicias por 30 euros. Tras la comida\, el ambiente seguirá con un tardeo musical animado por Julio Milamores y la charanga Era Visto.
URL:https://ocioenferrolterra.com/event/fiestas-de-iris-en-cabana-de-bergantinos/
CATEGORIES:Fiestas,Gastronomía
ATTACH;FMTTYPE=image/jpeg:https://ocioenferrolterra.com/wp-content/uploads/2025/06/festas-iris.jpg
END:VEVENT
BEGIN:VEVENT
DTSTART;TZID=Europe/Madrid:20250621T200000
DTEND;TZID=Europe/Madrid:20250621T233000
DTSTAMP:20260424T054314
CREATED:20250620T153357Z
LAST-MODIFIED:20250620T153359Z
UID:934-1750536000-1750548600@ocioenferrolterra.com
SUMMARY:Sardiñada popular y rock en Caranza este sábado con Paadal Rock
DESCRIPTION:Este sábado 21 de junio\, a partir de las 20:00 horas\, el barrio de Caranza se llenará de olor a brasa y buen ambiente con una nueva edición de la sardiñada popular organizada por la Asociación de Vecinos “Cuco Ruiz de Cortázar”. La cita será en la zona del Centro Cívico y contará con la música en directo de Paadal Rock. \nAprovechando la llegada del solsticio de verano\, Caranza se adelanta a las celebraciones de San Xoán con esta actividad que ya se ha convertido en una tradición vecinal. La fórmula es sencilla pero infalible: sardinas a la parrilla\, una buena cerveza y rock en directo para compartir entre vecindario y visitantes. \nEl grupo ferrolano Paadal Rock pondrá la banda sonora a la noche con un repertorio potente\, donde el rock clásico y el espíritu festivo se darán la mano. La cita\, organizada con el apoyo del Puerto de Ferrol y el Concello\, busca no solo dinamizar el barrio\, sino también fortalecer el tejido social de una zona con mucha vida comunitaria. \nPara quienes sean socios de la AVV\, la participación será gratuita\, mientras que las personas no socias solo tendrán que abonar 3 euros. Una contribución simbólica para una noche donde lo importante es reunirse en torno al fuego y la música. El Centro Cívico de Caranza\, habitual punto de encuentro vecinal\, volverá a ser el epicentro de esta propuesta gastronómica y cultural.
URL:https://ocioenferrolterra.com/event/sardinada-popular-y-rock-en-caranza-este-sabado-con-paadal-rock/
CATEGORIES:Concierto,Gastronomía
ATTACH;FMTTYPE=image/jpeg:https://ocioenferrolterra.com/wp-content/uploads/2025/06/paadal-rock-caranza.jpg
END:VEVENT
BEGIN:VEVENT
DTSTART;TZID=Europe/Madrid:20250621T203000
DTEND;TZID=Europe/Madrid:20250621T233000
DTSTAMP:20260424T054314
CREATED:20250606T155942Z
LAST-MODIFIED:20250606T160002Z
UID:598-1750537800-1750548600@ocioenferrolterra.com
SUMMARY:Xuntanza de San Xoán en As Somozas
DESCRIPTION:📍 Lugar: Campo da festa de Seixas\, As Somozas📅 Fecha y hora: Sábado 21 de junio de 2025\, desde las 20:30 h🎫 Entradas: 17 € socios / 25 € no socios / 10 € menores de 12 años🔗 Reservas: Hasta el 15 de junio en el 619 878 222 (preferencia para socios) \nDescripción del evento: \nLa noche más mágica del año se celebra en As Somozas con la tradicional Xuntanza de San Xoán\, una cita popular que tendrá lugar el sábado 21 de junio en el Campo da festa de Seixas\, con cena\, música en directo y rituales tradicionales. \nA partir de las 20:30 h\, los asistentes podrán disfrutar de un completo menú a base de empanada\, churrasco\, chorizo con patatas\, pan\, bebida y postre. Como no podía faltar en una noche como esta\, habrá queimada y la clásica fogata de San Xoán\, manteniendo viva una de las costumbres más arraigadas del calendario gallego. \nLa música correrá a cargo de Vanesa Ramil\, que animará la velada con su actuación en directo\, en una noche pensada para compartir entre vecinos y amigos en un ambiente festivo y familiar.
URL:https://ocioenferrolterra.com/event/xuntanza-de-san-xoan-en-as-somozas/
CATEGORIES:Fiestas,Gastronomía
ATTACH;FMTTYPE=image/jpeg:https://ocioenferrolterra.com/wp-content/uploads/2025/06/seixas-san-xoan.jpg
END:VEVENT
END:VCALENDAR