BEGIN:VCALENDAR
VERSION:2.0
PRODID:-//Ocio en Ferrolterra - ECPv6.15.13.1//NONSGML v1.0//EN
CALSCALE:GREGORIAN
METHOD:PUBLISH
X-WR-CALNAME:Ocio en Ferrolterra
X-ORIGINAL-URL:https://ocioenferrolterra.com
X-WR-CALDESC:Eventos para Ocio en Ferrolterra
REFRESH-INTERVAL;VALUE=DURATION:PT1H
X-Robots-Tag:noindex
X-PUBLISHED-TTL:PT1H
BEGIN:VTIMEZONE
TZID:Europe/Madrid
BEGIN:DAYLIGHT
TZOFFSETFROM:+0100
TZOFFSETTO:+0200
TZNAME:CEST
DTSTART:20240331T010000
END:DAYLIGHT
BEGIN:STANDARD
TZOFFSETFROM:+0200
TZOFFSETTO:+0100
TZNAME:CET
DTSTART:20241027T010000
END:STANDARD
BEGIN:DAYLIGHT
TZOFFSETFROM:+0100
TZOFFSETTO:+0200
TZNAME:CEST
DTSTART:20250330T010000
END:DAYLIGHT
BEGIN:STANDARD
TZOFFSETFROM:+0200
TZOFFSETTO:+0100
TZNAME:CET
DTSTART:20251026T010000
END:STANDARD
BEGIN:DAYLIGHT
TZOFFSETFROM:+0100
TZOFFSETTO:+0200
TZNAME:CEST
DTSTART:20260329T010000
END:DAYLIGHT
BEGIN:STANDARD
TZOFFSETFROM:+0200
TZOFFSETTO:+0100
TZNAME:CET
DTSTART:20261025T010000
END:STANDARD
END:VTIMEZONE
BEGIN:VEVENT
DTSTART;TZID=Europe/Madrid:20250606T193000
DTEND;TZID=Europe/Madrid:20250606T203000
DTSTAMP:20260422T224810
CREATED:20250605T103059Z
LAST-MODIFIED:20250605T103450Z
UID:501-1749238200-1749241800@ocioenferrolterra.com
SUMMARY:Presentación del libro Nao cetácea en Ferrol
DESCRIPTION:📍 Lugar: Auditorio del Museo de Historia Natural (Praza de Canido\, Ferrol)📅 Fecha y hora: Viernes 6 de junio de 2025\, a las 19:30 h🎫 Entradas: Acceso libre \nDescripción del evento: \nEl Museo de Historia Natural de Ferrol acoge este viernes la presentación de Nao cetácea\, una obra del poeta y patrón de pesca Xosé Iglesias\, publicada por la Editorial Canela en 2024. A través de acuarelas originales\, poesía y textos personales\, el libro ofrece una mirada íntima y artística sobre el patrimonio marítimo gallego y la biodiversidad de nuestros mares\, con especial atención al universo de los cetáceos. \nCon la presencia del propio autor y del editor\, esta presentación se convierte en una invitación a navegar entre el arte\, la memoria marinera y la defensa del entorno natural. La obra incluye 61 acuarelas a todo color\, acompañadas por poemas del propio Iglesias\, un prólogo de Francisco Fernández Naval y el poema “Foxa Atlántica” de Manuel Rivas. Un homenaje visual y literario al mar y a quienes lo habitan.
URL:https://ocioenferrolterra.com/event/presentacion-del-libro-nao-cetacea-en-ferrol/
CATEGORIES:Literatura
ATTACH;FMTTYPE=image/jpeg:https://ocioenferrolterra.com/wp-content/uploads/2025/06/nao-cetacea-libro.jpg
END:VEVENT
BEGIN:VEVENT
DTSTART;TZID=Europe/Madrid:20250613T180000
DTEND;TZID=Europe/Madrid:20250613T210000
DTSTAMP:20260422T224810
CREATED:20250602T094943Z
LAST-MODIFIED:20250611T132819Z
UID:392-1749837600-1749848400@ocioenferrolterra.com
SUMMARY:Fene celebra a II Xornada Literaria no Pote con autoras e autores de Ferrolterra
DESCRIPTION:Este venres 13 de xuño\, a entidade cultural O Pote de Maniños\, en Fene\, converterase nun punto de encontro para lectoras\, lectores e creadores locais coa celebración da II Xornada Literaria no Pote\, unha iniciativa impulsada pola Concellería de Cultura en colaboración coa SCRD O Pote e a asociación AETNA\, que reunirá a preto de 25 autores e autoras da comarca de Ferrolterra. \nA xornada arrancará ás 18:00 horas coa apertura da feira do libro\, onde se poderá mercar e asinar exemplares das obras presentadas polos escritores participantes. Ás 19:00 horas terá lugar o acto de inauguración oficial\, que contará coa presenza da alcaldesa de Fene\, Alejandra Permuy\, o concelleiro de Cultura Justo M. Ardá\, e representantes das entidades organizadoras. \nUn dos momentos centrais da tarde será o coloquio entre Iago Fandiño e Paula Carballeira\, escritora\, actriz e contacontos moi vinculada á escena cultural galega. A continuación\, a partir das 20:15 horas\, celebrarase a presentación de dúas novidades editoriais destacadas: Detective Ferruchi\, de Marta Villar (Premio Xerais 2024)\, e O Clan das Barbies\, de Antía Yáñez\, quen compartirá escenario coa escritora María Nieto. \nA feira contará con presenza de autores como Cova PL\, Javier Regueira Serrano\, Raquel Villanueva Lorca\, Teresa Cameselle\, Xosé Fernández\, Soraya García Riveiros\, Sabela Cagiao\, entre moitos outros nomes que amosarán a diversidade e vitalidade da creación literaria na comarca. \nA xornada está pensada como un espazo de visibilización e diálogo arredor da literatura\, coa participación activa do público e o apoio de entidades como a Asociación Galega de Escritores\, Imprenta Sanesteban ou Eroski. Unha cita para celebrar as letras cunha marcada identidade local e galega\, nun formato accesible\, próximo e participativo.
URL:https://ocioenferrolterra.com/event/ii-xornadas-literarias-o-pote/
CATEGORIES:Literatura
ATTACH;FMTTYPE=image/jpeg:https://ocioenferrolterra.com/wp-content/uploads/2025/06/literarias-o-pote.jpg
END:VEVENT
BEGIN:VEVENT
DTSTART;TZID=Europe/Madrid:20250613T193000
DTEND;TZID=Europe/Madrid:20250613T203000
DTSTAMP:20260422T224810
CREATED:20250611T141650Z
LAST-MODIFIED:20250611T141651Z
UID:792-1749843000-1749846600@ocioenferrolterra.com
SUMMARY:La antigua Mesopotamia llega al campus de Ferrol de la mano de Juan Luis Montero
DESCRIPTION:Este viernes 13 de junio a las 19:30 horas\, la Facultad de Humanidades y Documentación de la UDC en Ferrol acogerá la presentación de Mesopotamia: historia de la tierra de Gilgamesh\, un libro del profesor Juan Luis Montero Fenollós que busca acercar al gran público una de las civilizaciones más influyentes —y paradójicamente más desconocidas— de la historia. \nLa obra\, publicada por Erasmus Ediciones\, recorre de forma divulgativa los principales pilares de la cultura mesopotámica\, a través de siete ejes temáticos que estructuran su relato: el agua\, la ciudad\, la realeza\, la religión\, la justicia y la muerte. Un enfoque accesible y riguroso que pretende despertar el interés por un mundo antiguo que fue cuna de avances fundamentales para la humanidad. \nTras haber presentado el libro en escenarios como la Feria del Libro de Madrid\, Barcelona o Lorca\, Montero recala ahora en su casa académica\, en un acto que contará también con la participación del profesor ferrolano Jaime Vázquez Allegue\, de la Universidad de Comillas. \nMás allá de una simple presentación\, el encuentro promete ser una invitación a redescubrir el legado de Mesopotamia desde una perspectiva cercana\, enraizada tanto en el conocimiento académico como en la vocación de divulgar.
URL:https://ocioenferrolterra.com/event/la-antigua-mesopotamia-llega-al-campus-de-ferrol-de-la-mano-de-juan-luis-montero/
CATEGORIES:Literatura
END:VEVENT
BEGIN:VEVENT
DTSTART;TZID=Europe/Madrid:20250614T120000
DTEND;TZID=Europe/Madrid:20250614T130000
DTSTAMP:20260422T224810
CREATED:20250609T091139Z
LAST-MODIFIED:20250611T142656Z
UID:657-1749902400-1749906000@ocioenferrolterra.com
SUMMARY:Vermú literario en Praza Vella con "Insubmisión ambigua" e orgullo diverso
DESCRIPTION:Este sábado 14 de xuño ás 12:00 horas\, a Tasca da Praza Vella\, en Ferrol\, acolle un encontro diferente dentro da programación do Orgullo 2025: un vermú literario para falar de libros\, identidades e disidencias con humor\, música e moita liberdade. \nO punto de partida será a presentación do libro Insubmisión ambigua. Voces e relatos alén da monosexualidade\, editado por Xerais e coordinado por Ánxela Lema París e Ana M. Amigo-Ventureira\, que estarán presentes no acto acompañadas por outras persoas colaboradoras da obra. \nA cita forma parte das actividades organizadas por Avante LGBT+ Ferrolterra\, e pretende ser moito máis ca unha presentación: será un espazo para conversar\, coñecer xente\, bailar e celebrar a ambigüidade en todas as súas formas —sexual\, emocional ou literaria—. Unha proposta desenfadada\, inclusiva e reivindicativa\, aberta a todo tipo de públicos\, e especialmente a quen queira saír dos marcos normativos e explorar outras maneiras de vivir e contar. \n“Insubmisión ambigua” recolle voces que se sitúan máis alá da lóxica binaria e da visión única da sexualidade\, abrindo un espazo de reflexión sobre a fluidez\, o desexo\, as etiquetas e a súa ausencia. \nUn vermú para deixar atrás os prexuízos e brindar pola diversidade\, coa palabra como ferramenta e a rúa como espazo de encontro.
URL:https://ocioenferrolterra.com/event/vermu-literario-con-orgullo-en-ferrol/
CATEGORIES:Literatura
ATTACH;FMTTYPE=image/jpeg:https://ocioenferrolterra.com/wp-content/uploads/2025/06/orgullo-literario.jpg
END:VEVENT
BEGIN:VEVENT
DTSTART;TZID=Europe/Madrid:20250627T190000
DTEND;TZID=Europe/Madrid:20250627T200000
DTSTAMP:20260422T224810
CREATED:20250627T100554Z
LAST-MODIFIED:20250627T100557Z
UID:1010-1751050800-1751054400@ocioenferrolterra.com
SUMMARY:Cedeira acoge la presentación del libro “Nao Cetácea” con Xosé Iglesias
DESCRIPTION:Este viernes 27 de junio\, a las 19:00 h\, el Museo Mares de Cedeira acogerá la presentación del libro Nao Cetácea y una carta náutica de la localidad\, en un encuentro literario y divulgativo con la presencia de su autor\, el poeta y marinero Xosé Iglesias. La entrada es gratuita\, aunque se requiere inscripción previa a través del número de WhatsApp 614 209 504. \nNao Cetácea es una obra que\, como el propio autor\, navega entre la palabra poética y la experiencia directa del mar. Con una sensibilidad forjada entre redes\, olas y viajes\, Iglesias presenta un libro que conecta la literatura con el patrimonio marítimo gallego. Acompañando la publicación\, se dará a conocer también una carta náutica ilustrada de Cedeira\, que reinterpreta el territorio desde una mirada artística y simbólica\, entre faros\, costas y memoria marinera. \nLa actividad está organizada por el propio museo y cuenta con la colaboración de entidades como el Concello de Cedeira\, el Xeoparque do Cabo Ortegal y el colectivo Remo Revolución. La cita se enmarca dentro de las acciones culturales que buscan divulgar la historia local del mar y reforzar la conexión entre arte\, paisaje y comunidad.
URL:https://ocioenferrolterra.com/event/cedeira-acoge-la-presentacion-del-libro-nao-cetacea-con-xose-iglesias/
CATEGORIES:Literatura
ATTACH;FMTTYPE=image/jpeg:https://ocioenferrolterra.com/wp-content/uploads/2025/06/nao-cetacea-cedeira.jpeg
END:VEVENT
END:VCALENDAR