BEGIN:VCALENDAR
VERSION:2.0
PRODID:-//Ocio en Ferrolterra - ECPv6.15.13.1//NONSGML v1.0//EN
CALSCALE:GREGORIAN
METHOD:PUBLISH
X-ORIGINAL-URL:https://ocioenferrolterra.com
X-WR-CALDESC:Eventos para Ocio en Ferrolterra
REFRESH-INTERVAL;VALUE=DURATION:PT1H
X-Robots-Tag:noindex
X-PUBLISHED-TTL:PT1H
BEGIN:VTIMEZONE
TZID:Europe/Madrid
BEGIN:DAYLIGHT
TZOFFSETFROM:+0100
TZOFFSETTO:+0200
TZNAME:CEST
DTSTART:20240331T010000
END:DAYLIGHT
BEGIN:STANDARD
TZOFFSETFROM:+0200
TZOFFSETTO:+0100
TZNAME:CET
DTSTART:20241027T010000
END:STANDARD
BEGIN:DAYLIGHT
TZOFFSETFROM:+0100
TZOFFSETTO:+0200
TZNAME:CEST
DTSTART:20250330T010000
END:DAYLIGHT
BEGIN:STANDARD
TZOFFSETFROM:+0200
TZOFFSETTO:+0100
TZNAME:CET
DTSTART:20251026T010000
END:STANDARD
BEGIN:DAYLIGHT
TZOFFSETFROM:+0100
TZOFFSETTO:+0200
TZNAME:CEST
DTSTART:20260329T010000
END:DAYLIGHT
BEGIN:STANDARD
TZOFFSETFROM:+0200
TZOFFSETTO:+0100
TZNAME:CET
DTSTART:20261025T010000
END:STANDARD
END:VTIMEZONE
BEGIN:VEVENT
DTSTART;TZID=Europe/Madrid:20250523T183000
DTEND;TZID=Europe/Madrid:20250523T193000
DTSTAMP:20260423T014550
CREATED:20250521T144042Z
LAST-MODIFIED:20250521T144042Z
UID:135-1748025000-1748028600@ocioenferrolterra.com
SUMMARY:Presentación del libro "Íntimos rincones" de Maite Gascón Díaz
DESCRIPTION:📍 Lugar: Biblioteca Municipal de Narón (Sala multiusos)📅 Fecha y hora: Viernes 23 de mayo de 2025\, a las 18:30 h🎫 Entradas: Acceso libre hasta completar aforo🔗 Más info: biblioteca.naron.gal \nDescripción del evento: \nLa Biblioteca Municipal de Narón acoge este viernes una cita especial con la poesía contemporánea. La autora Maite Gascón Díaz presenta su nuevo poemario\, Íntimos rincones\, una obra publicada por Editorial Cuadranta que reúne 200 haikus de tono intimista. A través de estos breves poemas\, la escritora explora emociones y vivencias cotidianas con la delicadeza y precisión propias de este estilo poético japonés. \nMaite Gascón\, originaria de Guijuelo (Salamanca) y residente en Mugardos\, ha cultivado desde temprana edad una profunda pasión por la literatura\, especialmente por la poesía. Entre sus publicaciones anteriores se encuentran títulos como El tren de la poesía y Unas vocales muy divertidas\, dirigidos al público infantil. En esta ocasión\, la autora estará acompañada por la también escritora Julia Graña\, quien participará en la presentación del libro. \nEste evento se enmarca dentro de las actividades culturales de la comarca de Ferrolterra y representa una excelente oportunidad para los amantes de la poesía y la literatura. Al finalizar la presentación\, los asistentes podrán adquirir ejemplares del libro. Una propuesta ideal para quienes buscan planes culturales en Galicia este fin de semana.
URL:https://ocioenferrolterra.com/event/presentacion-del-libro-intimos-rincones-de-maite-gascon-diaz/
CATEGORIES:Literatura
ATTACH;FMTTYPE=image/png:https://ocioenferrolterra.com/wp-content/uploads/2025/05/intimos-rincones.png
END:VEVENT
END:VCALENDAR