BEGIN:VCALENDAR
VERSION:2.0
PRODID:-//Ocio en Ferrolterra - ECPv6.15.13.1//NONSGML v1.0//EN
CALSCALE:GREGORIAN
METHOD:PUBLISH
X-ORIGINAL-URL:https://ocioenferrolterra.com
X-WR-CALDESC:Eventos para Ocio en Ferrolterra
REFRESH-INTERVAL;VALUE=DURATION:PT1H
X-Robots-Tag:noindex
X-PUBLISHED-TTL:PT1H
BEGIN:VTIMEZONE
TZID:Europe/Madrid
BEGIN:DAYLIGHT
TZOFFSETFROM:+0100
TZOFFSETTO:+0200
TZNAME:CEST
DTSTART:20240331T010000
END:DAYLIGHT
BEGIN:STANDARD
TZOFFSETFROM:+0200
TZOFFSETTO:+0100
TZNAME:CET
DTSTART:20241027T010000
END:STANDARD
BEGIN:DAYLIGHT
TZOFFSETFROM:+0100
TZOFFSETTO:+0200
TZNAME:CEST
DTSTART:20250330T010000
END:DAYLIGHT
BEGIN:STANDARD
TZOFFSETFROM:+0200
TZOFFSETTO:+0100
TZNAME:CET
DTSTART:20251026T010000
END:STANDARD
BEGIN:DAYLIGHT
TZOFFSETFROM:+0100
TZOFFSETTO:+0200
TZNAME:CEST
DTSTART:20260329T010000
END:DAYLIGHT
BEGIN:STANDARD
TZOFFSETFROM:+0200
TZOFFSETTO:+0100
TZNAME:CET
DTSTART:20261025T010000
END:STANDARD
END:VTIMEZONE
BEGIN:VEVENT
DTSTART;TZID=Europe/Madrid:20250530T183000
DTEND;TZID=Europe/Madrid:20250530T193000
DTSTAMP:20260423T001431
CREATED:20250525T092127Z
LAST-MODIFIED:20250525T092132Z
UID:300-1748629800-1748633400@ocioenferrolterra.com
SUMMARY:Presentación del libro "Mujer volcán: prosa para intensos" en Narón
DESCRIPTION:📍 Lugar: Biblioteca Municipal de Narón (Sala Multiusos)📅 Fecha y hora: Viernes 30 de mayo\, a las 18:30 h🎫 Entradas: Entrada libre hasta completar aforo🔗 Más info: biblioteca.naron.gal \nDescripción del evento: \nLa Biblioteca Municipal de Narón acoge la presentación de Mujer volcán: prosa para intensos\, el primer libro de la autora Hateya Vallejo García. Nacida en La Línea de la Concepción en 1997 y miembro de la Armada Española\, Vallejo debuta en el ámbito literario con una obra de prosa lírica que explora temas como el amor\, la pérdida\, la identidad y la reconstrucción personal. \nPublicado por la editorial OléLibros en 2025\, Mujer volcán invita a una lectura pausada y empática\, combinando memoria y escritura creativa . La autora estará acompañada por Daniel Jérica Sánchez durante el evento\, y al finalizar\, los asistentes podrán adquirir ejemplares de la obra.
URL:https://ocioenferrolterra.com/event/presentacion-del-libro-mujer-volcan-prosa-para-intensos-en-naron/
CATEGORIES:Literatura
ATTACH;FMTTYPE=image/png:https://ocioenferrolterra.com/wp-content/uploads/2025/05/mujervolcan.png
END:VEVENT
END:VCALENDAR