BEGIN:VCALENDAR
VERSION:2.0
PRODID:-//Ocio en Ferrolterra - ECPv6.15.13.1//NONSGML v1.0//EN
CALSCALE:GREGORIAN
METHOD:PUBLISH
X-WR-CALNAME:Ocio en Ferrolterra
X-ORIGINAL-URL:https://ocioenferrolterra.com
X-WR-CALDESC:Eventos para Ocio en Ferrolterra
REFRESH-INTERVAL;VALUE=DURATION:PT1H
X-Robots-Tag:noindex
X-PUBLISHED-TTL:PT1H
BEGIN:VTIMEZONE
TZID:Europe/Madrid
BEGIN:DAYLIGHT
TZOFFSETFROM:+0100
TZOFFSETTO:+0200
TZNAME:CEST
DTSTART:20240331T010000
END:DAYLIGHT
BEGIN:STANDARD
TZOFFSETFROM:+0200
TZOFFSETTO:+0100
TZNAME:CET
DTSTART:20241027T010000
END:STANDARD
BEGIN:DAYLIGHT
TZOFFSETFROM:+0100
TZOFFSETTO:+0200
TZNAME:CEST
DTSTART:20250330T010000
END:DAYLIGHT
BEGIN:STANDARD
TZOFFSETFROM:+0200
TZOFFSETTO:+0100
TZNAME:CET
DTSTART:20251026T010000
END:STANDARD
BEGIN:DAYLIGHT
TZOFFSETFROM:+0100
TZOFFSETTO:+0200
TZNAME:CEST
DTSTART:20260329T010000
END:DAYLIGHT
BEGIN:STANDARD
TZOFFSETFROM:+0200
TZOFFSETTO:+0100
TZNAME:CET
DTSTART:20261025T010000
END:STANDARD
END:VTIMEZONE
BEGIN:VEVENT
DTSTART;TZID=Europe/Madrid:20250524T200000
DTEND;TZID=Europe/Madrid:20250524T213000
DTSTAMP:20260421T202227
CREATED:20250522T111043Z
LAST-MODIFIED:20250522T111043Z
UID:228-1748116800-1748122200@ocioenferrolterra.com
SUMMARY:Teatro contemporáneo: "Helen Keller\, a muller marabilla?" en Narón
DESCRIPTION:📍 Lugar: Pazo da Cultura de Narón📅 Fecha y hora: Viernes 23 de mayo a las 20:30 h y sábado 24 de mayo a las 20:00 h🎟 Edad recomendada: A partir de 12 años🎫 Entradas: 9\,50 € (6\,65 € para tarifa reducida o abonados)\, disponibles en taquilla y en padroadodecultura.es \nDescripción del evento: \nLa compañía gallega Chévere presenta en Narón su nueva producción\, Helen Keller\, a muller marabilla?\, una obra que revisa críticamente la figura de Helen Keller\, conocida por ser la primera persona sordociega en obtener un título universitario. Más allá de su imagen como símbolo de superación\, la pieza explora aspectos menos divulgados de su vida\, como su activismo socialista\, su defensa del control de natalidad y su oposición a la Primera Guerra Mundial . \nBasada en investigaciones en archivos digitales estadounidenses\, la obra también aborda campañas recientes en redes sociales que cuestionan la veracidad de los logros de Keller\, planteando interrogantes sobre por qué su figura genera incomodidad: ¿por ser mujer\, sorda\, ciega y comunista? \nDirigida por Xron y con un elenco formado por Patricia de Lorenzo\, Ángela Ibáñez y Chusa Pérez de Vallejo\, el montaje incluye lengua de signos española y subtítulos proyectados\, garantizando la accesibilidad para todo el público. La escenografía es de Nononon.lab\, el sonido de Xacobe Martínez Antelo y la iluminación de Fidel Vázquez . \nUna propuesta escénica que invita a reflexionar sobre la rebeldía\, la disidencia y la autonomía\, y que forma parte de la Rede Galega de Teatros e Auditorios con el apoyo de la Xunta de Galicia a través de AGADIC .
URL:https://ocioenferrolterra.com/event/teatro-contemporaneo-helen-keller-a-muller-marabilla-en-naron/
CATEGORIES:Teatro
ATTACH;FMTTYPE=image/jpeg:https://ocioenferrolterra.com/wp-content/uploads/2025/05/hellen.jpeg
END:VEVENT
BEGIN:VEVENT
DTSTART;TZID=Europe/Madrid:20250527T000000
DTEND;TZID=Europe/Madrid:20250527T000000
DTSTAMP:20260421T202227
CREATED:20250522T105518Z
LAST-MODIFIED:20250522T105518Z
UID:216-1748304000-1748304000@ocioenferrolterra.com
SUMMARY:Un lugar chamado Broadway - Teatro musical
DESCRIPTION:📍 Lugar: Auditorio Municipal de Narón📅 Fecha y hora: Martes 27 de mayo de 2025🎟 Edad recomendada: A partir de 10 años🎫 Entradas: Acceso libre hasta completar aforo\n🔗 Más info: https://naron.gal/cat/gal/novas/get/6637 \nDescripción del evento: \nEl grupo de teatro musical del curso Practicum de la Escola de Formación de Actrices e Actores de Narón sube al escenario con Un lugar chamado Broadway\, una producción dirigida por Bea García y Celia Gómez. Un espectáculo lleno de ritmo\, humor y guiños a los grandes musicales\, donde el talento local brilla con luz propia.
URL:https://ocioenferrolterra.com/event/un-lugar-chamado-broadway-teatro-musical/
CATEGORIES:Teatro
ATTACH;FMTTYPE=image/jpeg:https://ocioenferrolterra.com/wp-content/uploads/2025/05/padroado.jpg
END:VEVENT
BEGIN:VEVENT
DTSTART;TZID=Europe/Madrid:20250531T200000
DTEND;TZID=Europe/Madrid:20250531T210000
DTSTAMP:20260421T202227
CREATED:20250526T115634Z
LAST-MODIFIED:20250526T115637Z
UID:308-1748721600-1748725200@ocioenferrolterra.com
SUMMARY:Teatro: VITÓRIA\, retrato dunha denuncia en Cedeira
DESCRIPTION:📍 Lugar: Auditorio Municipal de Cedeira (Rúa María Mediadora esquina rúa Convento)📅 Fecha y hora: Sábado 31 de mayo de 2025\, a las 20:00 h🎟 Edad recomendada: A partir de 12 años🎫 Entradas: Acceso libre \nDescripción del evento: \nEl Auditorio Municipal de Cedeira acoge la obra VITÓRIA\, retrato dunha denuncia\, una propuesta de teatro autobiográfico que narra el proceso judicial vivido por la actriz Iria Pinheiro tras denunciar por acoso sexual al director del programa de televisión en el que trabajaba. La pieza\, que abarca el periodo de 2017 a 2023\, combina documentación judicial con elementos de cabaret\, ofreciendo una mirada crítica y reflexiva sobre la experiencia personal y el sistema judicial. \nEl elenco está compuesto por Victoria Pérez\, Iria Pinheiro y Salva del Río\, bajo una dirección colectiva con la asistencia de Susana Villaverde. La dramaturgia cuenta con el apoyo de Vanesa Sotelo y Ricardo Correia\, mientras que la ambientación sonora corre a cargo de Mónica de Nut y DJ Concha\, y la iluminación está diseñada por Daniel Abalo. \nEsta representación forma parte de la programación cultural de Cedeira y se presenta como una oportunidad para el público adulto de la comarca de Ferrolterra de asistir a una obra que aborda temas de actualidad con un enfoque artístico y comprometido.
URL:https://ocioenferrolterra.com/event/teatro-vitoria-retrato-dunha-denuncia-en-cedeira/
CATEGORIES:Teatro
ATTACH;FMTTYPE=image/jpeg:https://ocioenferrolterra.com/wp-content/uploads/2025/05/victoria.jpeg
END:VEVENT
BEGIN:VEVENT
DTSTART;TZID=Europe/Madrid:20250531T203000
DTEND;TZID=Europe/Madrid:20250531T220000
DTSTAMP:20260421T202227
CREATED:20250521T150559Z
LAST-MODIFIED:20250521T150559Z
UID:153-1748723400-1748728800@ocioenferrolterra.com
SUMMARY:Poncia – Monólogo teatral con Lolita Flores
DESCRIPTION:📍 Lugar: Teatro Jofre\, Ferrol📅 Fecha y hora: Sábado 31 de mayo de 2025\, a las 20:30 h🎫 Entradas: Desde 12 € en Ataquilla.com \nDescripción del evento: \nEl Teatro Jofre de Ferrol acoge la representación de Poncia\, un monólogo escrito y dirigido por Luis Luque\, basado en el personaje de la criada de La casa de Bernarda Alba de Federico García Lorca. Interpretado por Lolita Flores\, la obra profundiza en la voz silenciada de Poncia\, abordando temas como el suicidio\, la libertad\, la culpa\, la clase social\, la educación y la sexualidad. A través de un soliloquio cargado de emoción\, Poncia habla consigo misma y con las sombras de Bernarda y sus hijas\, en una casa sumida en el silencio tras la muerte de Adela. \nEsta propuesta teatral ofrece una mirada íntima y reflexiva sobre uno de los personajes más enigmáticos del universo lorquiano\, dando voz a quienes históricamente han sido relegados al silencio. Una oportunidad única para disfrutar de una interpretación intensa y conmovedora en el corazón de Ferrol.
URL:https://ocioenferrolterra.com/event/poncia-monologo-teatral-con-lolita-flores/
CATEGORIES:Teatro
ATTACH;FMTTYPE=image/jpeg:https://ocioenferrolterra.com/wp-content/uploads/2025/05/poncia.jpg
END:VEVENT
END:VCALENDAR