BEGIN:VCALENDAR
VERSION:2.0
PRODID:-//Ocio en Ferrolterra - ECPv6.15.13.1//NONSGML v1.0//EN
CALSCALE:GREGORIAN
METHOD:PUBLISH
X-WR-CALNAME:Ocio en Ferrolterra
X-ORIGINAL-URL:https://ocioenferrolterra.com
X-WR-CALDESC:Eventos para Ocio en Ferrolterra
REFRESH-INTERVAL;VALUE=DURATION:PT1H
X-Robots-Tag:noindex
X-PUBLISHED-TTL:PT1H
BEGIN:VTIMEZONE
TZID:Europe/Madrid
BEGIN:DAYLIGHT
TZOFFSETFROM:+0100
TZOFFSETTO:+0200
TZNAME:CEST
DTSTART:20240331T010000
END:DAYLIGHT
BEGIN:STANDARD
TZOFFSETFROM:+0200
TZOFFSETTO:+0100
TZNAME:CET
DTSTART:20241027T010000
END:STANDARD
BEGIN:DAYLIGHT
TZOFFSETFROM:+0100
TZOFFSETTO:+0200
TZNAME:CEST
DTSTART:20250330T010000
END:DAYLIGHT
BEGIN:STANDARD
TZOFFSETFROM:+0200
TZOFFSETTO:+0100
TZNAME:CET
DTSTART:20251026T010000
END:STANDARD
BEGIN:DAYLIGHT
TZOFFSETFROM:+0100
TZOFFSETTO:+0200
TZNAME:CEST
DTSTART:20260329T010000
END:DAYLIGHT
BEGIN:STANDARD
TZOFFSETFROM:+0200
TZOFFSETTO:+0100
TZNAME:CET
DTSTART:20261025T010000
END:STANDARD
END:VTIMEZONE
BEGIN:VEVENT
DTSTART;TZID=Europe/Madrid:20250524T200000
DTEND;TZID=Europe/Madrid:20250524T213000
DTSTAMP:20260421T220515
CREATED:20250522T111043Z
LAST-MODIFIED:20250522T111043Z
UID:228-1748116800-1748122200@ocioenferrolterra.com
SUMMARY:Teatro contemporáneo: "Helen Keller\, a muller marabilla?" en Narón
DESCRIPTION:📍 Lugar: Pazo da Cultura de Narón📅 Fecha y hora: Viernes 23 de mayo a las 20:30 h y sábado 24 de mayo a las 20:00 h🎟 Edad recomendada: A partir de 12 años🎫 Entradas: 9\,50 € (6\,65 € para tarifa reducida o abonados)\, disponibles en taquilla y en padroadodecultura.es \nDescripción del evento: \nLa compañía gallega Chévere presenta en Narón su nueva producción\, Helen Keller\, a muller marabilla?\, una obra que revisa críticamente la figura de Helen Keller\, conocida por ser la primera persona sordociega en obtener un título universitario. Más allá de su imagen como símbolo de superación\, la pieza explora aspectos menos divulgados de su vida\, como su activismo socialista\, su defensa del control de natalidad y su oposición a la Primera Guerra Mundial . \nBasada en investigaciones en archivos digitales estadounidenses\, la obra también aborda campañas recientes en redes sociales que cuestionan la veracidad de los logros de Keller\, planteando interrogantes sobre por qué su figura genera incomodidad: ¿por ser mujer\, sorda\, ciega y comunista? \nDirigida por Xron y con un elenco formado por Patricia de Lorenzo\, Ángela Ibáñez y Chusa Pérez de Vallejo\, el montaje incluye lengua de signos española y subtítulos proyectados\, garantizando la accesibilidad para todo el público. La escenografía es de Nononon.lab\, el sonido de Xacobe Martínez Antelo y la iluminación de Fidel Vázquez . \nUna propuesta escénica que invita a reflexionar sobre la rebeldía\, la disidencia y la autonomía\, y que forma parte de la Rede Galega de Teatros e Auditorios con el apoyo de la Xunta de Galicia a través de AGADIC .
URL:https://ocioenferrolterra.com/event/teatro-contemporaneo-helen-keller-a-muller-marabilla-en-naron/
CATEGORIES:Teatro
ATTACH;FMTTYPE=image/jpeg:https://ocioenferrolterra.com/wp-content/uploads/2025/05/hellen.jpeg
END:VEVENT
END:VCALENDAR