BEGIN:VCALENDAR
VERSION:2.0
PRODID:-//Ocio en Ferrolterra - ECPv6.15.13.1//NONSGML v1.0//EN
CALSCALE:GREGORIAN
METHOD:PUBLISH
X-WR-CALNAME:Ocio en Ferrolterra
X-ORIGINAL-URL:https://ocioenferrolterra.com
X-WR-CALDESC:Eventos para Ocio en Ferrolterra
REFRESH-INTERVAL;VALUE=DURATION:PT1H
X-Robots-Tag:noindex
X-PUBLISHED-TTL:PT1H
BEGIN:VTIMEZONE
TZID:Europe/Madrid
BEGIN:DAYLIGHT
TZOFFSETFROM:+0100
TZOFFSETTO:+0200
TZNAME:CEST
DTSTART:20240331T010000
END:DAYLIGHT
BEGIN:STANDARD
TZOFFSETFROM:+0200
TZOFFSETTO:+0100
TZNAME:CET
DTSTART:20241027T010000
END:STANDARD
BEGIN:DAYLIGHT
TZOFFSETFROM:+0100
TZOFFSETTO:+0200
TZNAME:CEST
DTSTART:20250330T010000
END:DAYLIGHT
BEGIN:STANDARD
TZOFFSETFROM:+0200
TZOFFSETTO:+0100
TZNAME:CET
DTSTART:20251026T010000
END:STANDARD
BEGIN:DAYLIGHT
TZOFFSETFROM:+0100
TZOFFSETTO:+0200
TZNAME:CEST
DTSTART:20260329T010000
END:DAYLIGHT
BEGIN:STANDARD
TZOFFSETFROM:+0200
TZOFFSETTO:+0100
TZNAME:CET
DTSTART:20261025T010000
END:STANDARD
END:VTIMEZONE
BEGIN:VEVENT
DTSTART;VALUE=DATE:20250628
DTEND;VALUE=DATE:20250629
DTSTAMP:20260423T114615
CREATED:20250623T142856Z
LAST-MODIFIED:20250623T142858Z
UID:965-1751068800-1751155199@ocioenferrolterra.com
SUMMARY:Feás celebra San Pedro 2025 con música\, procesión y fiesta hasta la madrugada
DESCRIPTION:El próximo sábado 28 de junio\, la parroquia de Feás\, en el municipio de Cariño\, celebrará sus tradicionales Festas de San Pedro 2025 con una jornada cargada de música\, tradición y ambiente vecinal. Como es costumbre\, la cita se vive intensamente en este rincón del norte de Ferrolterra\, con un programa que arranca desde la mañana y se prolonga hasta bien entrada la noche. \nLos festejos comenzarán con un pasacalles a cargo del grupo de gaitas Barallocas\, que pondrá la nota musical al despertar del pueblo. A las 13:00 horas tendrá lugar la misa solemne en honor a San Pedro\, seguida de la tradicional procesión\, también acompañada por Barallocas. \nLa celebración continuará a las 14:00 con una sesión vermú bajo carpa\, donde los asistentes podrán disfrutar de música en directo a cargo del grupo Pasión\, todo ello acompañado de aperitivos\, en un ambiente relajado y de reencuentro entre vecinos y visitantes. \nYa por la noche\, a partir de las 22:30 horas\, la verbena tomará el relevo con las actuaciones del grupo Pasión y DJ Party\, garantizando baile y diversión hasta que el cuerpo aguante. Un cierre festivo a la altura de una jornada que aúna lo mejor de la fiesta popular gallega: música en vivo\, espíritu comunitario y tradición. \nLas fiestas darán su pistoletazo de salida el viernes 27 de junio\, con el lanzamiento de 21 bombas de palenque al mediodía\, anunciando el inicio de la celebración.
URL:https://ocioenferrolterra.com/event/feas-celebra-san-pedro-2025-con-musica-procesion-y-fiesta-hasta-la-madrugada/
CATEGORIES:Fiestas
ATTACH;FMTTYPE=image/jpeg:https://ocioenferrolterra.com/wp-content/uploads/2025/06/san-pedro-feas.jpg
END:VEVENT
END:VCALENDAR