BEGIN:VCALENDAR
VERSION:2.0
PRODID:-//Ocio en Ferrolterra - ECPv6.15.13.1//NONSGML v1.0//EN
CALSCALE:GREGORIAN
METHOD:PUBLISH
X-WR-CALNAME:Ocio en Ferrolterra
X-ORIGINAL-URL:https://ocioenferrolterra.com
X-WR-CALDESC:Eventos para Ocio en Ferrolterra
REFRESH-INTERVAL;VALUE=DURATION:PT1H
X-Robots-Tag:noindex
X-PUBLISHED-TTL:PT1H
BEGIN:VTIMEZONE
TZID:Europe/Madrid
BEGIN:DAYLIGHT
TZOFFSETFROM:+0100
TZOFFSETTO:+0200
TZNAME:CEST
DTSTART:20240331T010000
END:DAYLIGHT
BEGIN:STANDARD
TZOFFSETFROM:+0200
TZOFFSETTO:+0100
TZNAME:CET
DTSTART:20241027T010000
END:STANDARD
BEGIN:DAYLIGHT
TZOFFSETFROM:+0100
TZOFFSETTO:+0200
TZNAME:CEST
DTSTART:20250330T010000
END:DAYLIGHT
BEGIN:STANDARD
TZOFFSETFROM:+0200
TZOFFSETTO:+0100
TZNAME:CET
DTSTART:20251026T010000
END:STANDARD
BEGIN:DAYLIGHT
TZOFFSETFROM:+0100
TZOFFSETTO:+0200
TZNAME:CEST
DTSTART:20260329T010000
END:DAYLIGHT
BEGIN:STANDARD
TZOFFSETFROM:+0200
TZOFFSETTO:+0100
TZNAME:CET
DTSTART:20261025T010000
END:STANDARD
END:VTIMEZONE
BEGIN:VEVENT
DTSTART;TZID=Europe/Madrid:20250608T100000
DTEND;TZID=Europe/Madrid:20250608T100000
DTSTAMP:20260421T120455
CREATED:20250521T093447Z
LAST-MODIFIED:20250606T134902Z
UID:52-1749376800-1749376800@ocioenferrolterra.com
SUMMARY:VII Feira do Gando Vacún de Moeche 2025
DESCRIPTION:📍 Lugar: Recinto ferial de San Ramón\, Moeche📅 Fecha y hora: Domingo 8 de junio de 2025\, desde las 10:00 h🎟 Edad recomendada: Todos los públicos🎫 Entradas: Acceso libre \nDescripción del evento: \nMoeche celebra el domingo 8 de junio la séptima edición de su Feira do Gando Vacún\, una cita ya consolidada en el calendario rural de Ferrolterra. Tras la suspensión del año pasado por motivos sanitarios\, el evento regresa con energías renovadas y novedades que refuerzan su papel como escaparate del sector ganadero local. \nEl recinto de San Ramón acogerá desde primera hora la exposición de ganado vacuno\, con especial protagonismo de la raza rubia gallega. Se otorgarán premios económicos a las tres manadas más numerosas (150 €\, 100 € y 50 €)\, y el público podrá votar por la “vaca favorita” depositando su elección en una urna habilitada en el recinto; la ganadora recibirá un premio de 100 € . \nAdemás\, se celebrará el V Concurso de Fotografía\, abierto a toda la ciudadanía\, con tres categorías: “Foto de una ganadería”\, “Vida en el rural” e “Infancia en el rural”. Las imágenes seleccionadas se exhibirán durante la feria\, y tanto el jurado como el público podrán votar por sus favoritas\, también a través de la página de Facebook del Concello de Moeche . \nLa feria contará con puestos de productos locales\, artesanía\, alimentación y actividades para todas las edades\, reafirmando su compromiso con la dinamización del rural y la puesta en valor del trabajo ganadero en la comarca de Ferrolterra.
URL:https://ocioenferrolterra.com/event/vii-feira-do-gando-vacun-de-moeche-2025/
CATEGORIES:Feria
ATTACH;FMTTYPE=image/jpeg:https://ocioenferrolterra.com/wp-content/uploads/2025/05/feira-gando-moeche.jpg
END:VEVENT
BEGIN:VEVENT
DTSTART;TZID=Europe/Madrid:20250628T140000
DTEND;TZID=Europe/Madrid:20250628T190000
DTSTAMP:20260421T120455
CREATED:20250623T150807Z
LAST-MODIFIED:20250623T150809Z
UID:983-1751119200-1751137200@ocioenferrolterra.com
SUMMARY:Labacengos celebra su Gran Churrascada con música en directo el 28 de junio
DESCRIPTION:El sábado 28 de junio\, la parroquia de Labacengos\, en el municipio de Moeche\, volverá a ser punto de encuentro para vecinos y visitantes con motivo de su Gran Churrascada\, una jornada gastronómica y festiva que tendrá lugar en el área de O Ventoeiro. \nEl evento\, organizado por la Asociación Veciñal Labacengos con la colaboración del Concello de Moeche y el Xeoparque do Cabo Ortegal\, arrancará a las 14:00 horas con la sesión vermú amenizada por la cantante Vanesa Ramil. Media hora después\, a las 14:30\, se servirá el esperado xantar\, con un menú abundante que incluye costela\, liscos\, criollos\, cachelos\, pan\, vino\, agua y refrescos. Para la sobremesa\, no faltarán la proia\, helado\, café de pota y un chupito para cerrar como manda la tradición. La música seguirá sonando por la tarde\, con una nueva actuación de Vanesa Ramil. \nEl precio del menú es de 18 euros para socios y 22 euros para no socios. Los niños y niñas hasta 10 años podrán participar gratis\, mientras que los de entre 10 y 14 años pagarán 10 euros. Las plazas son limitadas y las inscripciones estarán abiertas hasta el 23 de junio a través del teléfono 606 72 90 38.
URL:https://ocioenferrolterra.com/event/labacengos-celebra-su-gran-churrascada-con-musica-en-directo-el-28-de-junio/
CATEGORIES:Fiestas,Gastronomía
ATTACH;FMTTYPE=image/jpeg:https://ocioenferrolterra.com/wp-content/uploads/2025/06/churrascada-labacengos.jpg
END:VEVENT
END:VCALENDAR