BEGIN:VCALENDAR
VERSION:2.0
PRODID:-//Ocio en Ferrolterra - ECPv6.15.13.1//NONSGML v1.0//EN
CALSCALE:GREGORIAN
METHOD:PUBLISH
X-WR-CALNAME:Ocio en Ferrolterra
X-ORIGINAL-URL:https://ocioenferrolterra.com
X-WR-CALDESC:Eventos para Ocio en Ferrolterra
REFRESH-INTERVAL;VALUE=DURATION:PT1H
X-Robots-Tag:noindex
X-PUBLISHED-TTL:PT1H
BEGIN:VTIMEZONE
TZID:Europe/Madrid
BEGIN:DAYLIGHT
TZOFFSETFROM:+0100
TZOFFSETTO:+0200
TZNAME:CEST
DTSTART:20240331T010000
END:DAYLIGHT
BEGIN:STANDARD
TZOFFSETFROM:+0200
TZOFFSETTO:+0100
TZNAME:CET
DTSTART:20241027T010000
END:STANDARD
BEGIN:DAYLIGHT
TZOFFSETFROM:+0100
TZOFFSETTO:+0200
TZNAME:CEST
DTSTART:20250330T010000
END:DAYLIGHT
BEGIN:STANDARD
TZOFFSETFROM:+0200
TZOFFSETTO:+0100
TZNAME:CET
DTSTART:20251026T010000
END:STANDARD
BEGIN:DAYLIGHT
TZOFFSETFROM:+0100
TZOFFSETTO:+0200
TZNAME:CEST
DTSTART:20260329T010000
END:DAYLIGHT
BEGIN:STANDARD
TZOFFSETFROM:+0200
TZOFFSETTO:+0100
TZNAME:CET
DTSTART:20261025T010000
END:STANDARD
END:VTIMEZONE
BEGIN:VEVENT
DTSTART;TZID=Europe/Madrid:20250627T210000
DTEND;TZID=Europe/Madrid:20250628T233000
DTSTAMP:20260422T003821
CREATED:20250613T132634Z
LAST-MODIFIED:20250613T132833Z
UID:887-1751058000-1751153400@ocioenferrolterra.com
SUMMARY:Pulpo\, gaitas y verbena en las fiestas de San Pedro de Val de Xestoso 2025
DESCRIPTION:El lugar de Val de Xestoso\, en el municipio de Monfero\, se prepara para celebrar San Pedro con dos días de fiesta tradicional\, música y sabor popular. La cita será el viernes 27 y sábado 28 de junio\, en un entorno rural donde cada año vecinos y visitantes se reúnen para compartir mesa\, baile y devoción. \nEl viernes por la noche\, a las 21:00 h\, se celebrará la ya clásica gran pulpada\, una cena popular con pulpo\, pan\, vino y agua a un precio de 20 euros. Tras la comida\, la música tomará el relevo a las 23:00 h con la verbena a cargo de la orquesta Cayenna\, llegada desde Xixón\, que promete animar la primera noche con repertorio festivo y baile hasta bien entrada la madrugada. \nEl sábado 28\, los festejos comenzarán temprano con dianas y alboradas\, anunciando un día grande. A las 13:30 h se oficiará la misa solemne en honor a San Pedro\, seguida a las 14:30 h de una sesión vermú animada por el dúo D’Luxe\, que repetirá actuación a las 23:00 h en la segunda gran verbena. \nOrganizadas con el apoyo del Concello de Monfero y la implicación de los propios vecinos\, estas fiestas mantienen vivo el espíritu de comunidad que caracteriza a los pueblos del interior de la comarca. Tradición religiosa\, gastronomía compartida y orquestas para todos los gustos\, en una celebración que sigue siendo punto de encuentro para quienes vuelven al pueblo cada verano.
URL:https://ocioenferrolterra.com/event/887/
CATEGORIES:Fiestas
ATTACH;FMTTYPE=image/jpeg:https://ocioenferrolterra.com/wp-content/uploads/2025/06/val-xestoso.jpg
END:VEVENT
END:VCALENDAR