BEGIN:VCALENDAR
VERSION:2.0
PRODID:-//Ocio en Ferrolterra - ECPv6.15.13.1//NONSGML v1.0//EN
CALSCALE:GREGORIAN
METHOD:PUBLISH
X-WR-CALNAME:Ocio en Ferrolterra
X-ORIGINAL-URL:https://ocioenferrolterra.com
X-WR-CALDESC:Eventos para Ocio en Ferrolterra
REFRESH-INTERVAL;VALUE=DURATION:PT1H
X-Robots-Tag:noindex
X-PUBLISHED-TTL:PT1H
BEGIN:VTIMEZONE
TZID:Europe/Madrid
BEGIN:DAYLIGHT
TZOFFSETFROM:+0100
TZOFFSETTO:+0200
TZNAME:CEST
DTSTART:20240331T010000
END:DAYLIGHT
BEGIN:STANDARD
TZOFFSETFROM:+0200
TZOFFSETTO:+0100
TZNAME:CET
DTSTART:20241027T010000
END:STANDARD
BEGIN:DAYLIGHT
TZOFFSETFROM:+0100
TZOFFSETTO:+0200
TZNAME:CEST
DTSTART:20250330T010000
END:DAYLIGHT
BEGIN:STANDARD
TZOFFSETFROM:+0200
TZOFFSETTO:+0100
TZNAME:CET
DTSTART:20251026T010000
END:STANDARD
BEGIN:DAYLIGHT
TZOFFSETFROM:+0100
TZOFFSETTO:+0200
TZNAME:CEST
DTSTART:20260329T010000
END:DAYLIGHT
BEGIN:STANDARD
TZOFFSETFROM:+0200
TZOFFSETTO:+0100
TZNAME:CET
DTSTART:20261025T010000
END:STANDARD
END:VTIMEZONE
BEGIN:VEVENT
DTSTART;TZID=Europe/Madrid:20250620T233000
DTEND;TZID=Europe/Madrid:20250620T233000
DTSTAMP:20260419T150104
CREATED:20250605T101221Z
LAST-MODIFIED:20250605T101225Z
UID:495-1750462200-1750462200@ocioenferrolterra.com
SUMMARY:Concierto tributo a U2 con MU2 en Narón
DESCRIPTION:📍 Lugar: Clandestino Silentium Club\, Estrada do Pavillón 105B\, Narón📅 Fecha y hora: Viernes 20 de junio de 2025\, a las 00:00 h🎫 Entradas: Acceso libre🔗 Más info: Redes sociales del local \nDescripción del evento: \nLa banda tributo MU2 aterriza en el Clandestino Silentium Club con su homenaje a U2\, uno de los grupos más emblemáticos de la historia del rock. Será una noche para revivir los grandes himnos de los de Dublín\, desde “With or Without You” hasta “Sunday Bloody Sunday”\, con una puesta en escena que captura toda la esencia del directo original. \nA partir de medianoche\, el club de Narón se llenará de energía\, guitarras potentes y emociones a flor de piel. Tras el concierto\, la fiesta continúa con una nueva sesión musical del DJ Robinson Ramxs\, habitual en las noches del Clandestino\, para que el ritmo no pare.
URL:https://ocioenferrolterra.com/event/concierto-tributo-a-u2-con-mu2-en-naron/
CATEGORIES:Concierto
ATTACH;FMTTYPE=image/jpeg:https://ocioenferrolterra.com/wp-content/uploads/2025/06/mu2-clandestino.jpg
END:VEVENT
END:VCALENDAR