BEGIN:VCALENDAR
VERSION:2.0
PRODID:-//Ocio en Ferrolterra - ECPv6.15.13.1//NONSGML v1.0//EN
CALSCALE:GREGORIAN
METHOD:PUBLISH
X-ORIGINAL-URL:https://ocioenferrolterra.com
X-WR-CALDESC:Eventos para Ocio en Ferrolterra
REFRESH-INTERVAL;VALUE=DURATION:PT1H
X-Robots-Tag:noindex
X-PUBLISHED-TTL:PT1H
BEGIN:VTIMEZONE
TZID:Europe/Madrid
BEGIN:DAYLIGHT
TZOFFSETFROM:+0100
TZOFFSETTO:+0200
TZNAME:CEST
DTSTART:20240331T010000
END:DAYLIGHT
BEGIN:STANDARD
TZOFFSETFROM:+0200
TZOFFSETTO:+0100
TZNAME:CET
DTSTART:20241027T010000
END:STANDARD
BEGIN:DAYLIGHT
TZOFFSETFROM:+0100
TZOFFSETTO:+0200
TZNAME:CEST
DTSTART:20250330T010000
END:DAYLIGHT
BEGIN:STANDARD
TZOFFSETFROM:+0200
TZOFFSETTO:+0100
TZNAME:CET
DTSTART:20251026T010000
END:STANDARD
BEGIN:DAYLIGHT
TZOFFSETFROM:+0100
TZOFFSETTO:+0200
TZNAME:CEST
DTSTART:20260329T010000
END:DAYLIGHT
BEGIN:STANDARD
TZOFFSETFROM:+0200
TZOFFSETTO:+0100
TZNAME:CET
DTSTART:20261025T010000
END:STANDARD
END:VTIMEZONE
BEGIN:VEVENT
DTSTART;TZID=Europe/Madrid:20250702T213000
DTEND;TZID=Europe/Madrid:20250702T233000
DTSTAMP:20260422T043405
CREATED:20250702T113058Z
LAST-MODIFIED:20250702T113100Z
UID:1051-1751491800-1751499000@ocioenferrolterra.com
SUMMARY:Metal europeo e irreverencia mexicana este 2 de xullo na Sala Asatru de Ortigueira
DESCRIPTION:La noche del miércoles 2 de julio promete ser intensa en Ortigueira con un doble cartel que hará las delicias de los amantes del metal y el garage más crudo. La Sala Asatru acoge un concierto singular con dos propuestas internacionales de peso: Follow the Hunt\, desde Bélgica y Alemania\, y Los Intrusos\, llegados desde México. \nAbrirá la noche a las 21:30 h el dúo azteca Los Intrusos\, que llevan su garage rock’n’roll hasta los límites del salvajismo sonoro. Con un estilo sucio\, directo y cargado de actitud\, su música bebe tanto del punk clásico como del espíritu irreverente del underground latinoamericano. Ideal para quienes disfrutan del rock sin concesiones. \nLes seguirá Follow the Hunt\, formación europea que fusiona con personalidad el post-black metal con atmósferas densas y pasajes introspectivos. Su propuesta\, oscura y envolvente\, combina la agresividad del black con estructuras más melódicas y emotivas.
URL:https://ocioenferrolterra.com/event/metal-europeo-e-irreverencia-mexicana-este-2-de-xullo-na-sala-asatru-de-ortigueira/
CATEGORIES:Concierto
ATTACH;FMTTYPE=image/jpeg:https://ocioenferrolterra.com/wp-content/uploads/2025/07/ortigueira-1.jpg
END:VEVENT
BEGIN:VEVENT
DTSTART;VALUE=DATE:20250709
DTEND;VALUE=DATE:20250714
DTSTAMP:20260422T043405
CREATED:20250521T103544Z
LAST-MODIFIED:20250521T103710Z
UID:74-1752019200-1752451199@ocioenferrolterra.com
SUMMARY:Festival Internacional do Mundo Celta de Ortigueira 2025
DESCRIPTION:📍 Lugar: Ortigueira📅 Fecha y hora: Del miércoles 9 al domingo 13 de julio de 2025🎟 Edad recomendada: Todos los públicos🎫 Entradas: Acceso libre y gratuito🔗 Más info: festivaldeortigueira.com \nDescripción del evento: \nEl Festival Internacional do Mundo Celta de Ortigueira celebra su edición 2025 con una programación especial en homenaje al 50 aniversario de la Escola de Gaitas de Ortigueira\, fundadora del evento en 1978. Este año\, el festival se extenderá un día más\, del 9 al 13 de julio\, para acoger actividades conmemorativas y actuaciones de primer nivel en el ámbito del folk celta. \nAdemás de los conciertos\, el festival ofrecerá actividades paralelas como talleres\, exposiciones\, desfiles\, pasacalles y una feria de artesanía. \nEl evento\, declarado de Interés Turístico Internacional\, se desarrolla en un entorno natural privilegiado\, con zonas de acampada gratuitas en la playa de Morouzos y el pinar cercano. Una cita imprescindible para los amantes de la música celta y la cultura tradicional en Galicia.
URL:https://ocioenferrolterra.com/event/festival-internacional-do-mundo-celta-de-ortigueira-2025/
CATEGORIES:Concierto,Festival
ATTACH;FMTTYPE=image/jpeg:https://ocioenferrolterra.com/wp-content/uploads/2025/05/festival-ortigueira.jpg
END:VEVENT
BEGIN:VEVENT
DTSTART;VALUE=DATE:20250719
DTEND;VALUE=DATE:20250720
DTSTAMP:20260422T043405
CREATED:20250611T090900Z
LAST-MODIFIED:20250612T103354Z
UID:702-1752883200-1752969599@ocioenferrolterra.com
SUMMARY:El Porco Pride vuelve a Espasante: tercera edición el 19 de julio de 2025
DESCRIPTION:El próximo sábado 19 de julio de 2025\, el Puerto de Espasante (Ortigueira) se teñirá de colores para acoger una nueva edición del Porco Pride\, un evento que ha sabido hacerse un hueco propio en el calendario festivo y reivindicativo de la comarca. La cita\, que alcanza este año su tercera edición\, volverá a convertir este pequeño puerto marinero en un espacio de celebración\, diversidad y encuentro. \nOrganizado de forma comunitaria y con un espíritu festivo pero también comprometido\, el Porco Pride reivindica los derechos del colectivo LGTBIQ+ en un entorno cercano\, rural y acogedor. El evento nació con vocación de ser inclusivo\, alegre y abierto a todas las edades\, y ha ido creciendo en cada edición gracias a la implicación vecinal y al entusiasmo de quienes lo viven. \nAunque por el momento no se ha desvelado el programa completo\, la organización ya ha anunciado que próximamente se conocerán más detalles sobre las actividades\, conciertos y sorpresas previstas para esta jornada. Si algo caracteriza al Porco Pride es su combinación única de reivindicación y humor\, cultura y verbena\, visibilidad y afecto. \nDesde la organización animan a guardar la fecha y estar pendientes de las redes sociales para no perderse ninguna de las novedades que están por llegar. \nPorque el orgullo también se celebra desde los pueblos. Porque en Espasante\, o amor sempre sae do armario.
URL:https://ocioenferrolterra.com/event/iii-porco-pride-espasante/
CATEGORIES:Fiestas
ATTACH;FMTTYPE=image/jpeg:https://ocioenferrolterra.com/wp-content/uploads/2025/06/porco-pride-espasante-2025.jpg
END:VEVENT
END:VCALENDAR