BEGIN:VCALENDAR
VERSION:2.0
PRODID:-//Ocio en Ferrolterra - ECPv6.15.13.1//NONSGML v1.0//EN
CALSCALE:GREGORIAN
METHOD:PUBLISH
X-WR-CALNAME:Ocio en Ferrolterra
X-ORIGINAL-URL:https://ocioenferrolterra.com
X-WR-CALDESC:Eventos para Ocio en Ferrolterra
REFRESH-INTERVAL;VALUE=DURATION:PT1H
X-Robots-Tag:noindex
X-PUBLISHED-TTL:PT1H
BEGIN:VTIMEZONE
TZID:Europe/Madrid
BEGIN:DAYLIGHT
TZOFFSETFROM:+0100
TZOFFSETTO:+0200
TZNAME:CEST
DTSTART:20240331T010000
END:DAYLIGHT
BEGIN:STANDARD
TZOFFSETFROM:+0200
TZOFFSETTO:+0100
TZNAME:CET
DTSTART:20241027T010000
END:STANDARD
BEGIN:DAYLIGHT
TZOFFSETFROM:+0100
TZOFFSETTO:+0200
TZNAME:CEST
DTSTART:20250330T010000
END:DAYLIGHT
BEGIN:STANDARD
TZOFFSETFROM:+0200
TZOFFSETTO:+0100
TZNAME:CET
DTSTART:20251026T010000
END:STANDARD
BEGIN:DAYLIGHT
TZOFFSETFROM:+0100
TZOFFSETTO:+0200
TZNAME:CEST
DTSTART:20260329T010000
END:DAYLIGHT
BEGIN:STANDARD
TZOFFSETFROM:+0200
TZOFFSETTO:+0100
TZNAME:CET
DTSTART:20261025T010000
END:STANDARD
END:VTIMEZONE
BEGIN:VEVENT
DTSTART;TZID=Europe/Madrid:20250530T200000
DTEND;TZID=Europe/Madrid:20250530T213000
DTSTAMP:20260424T010936
CREATED:20250523T140933Z
LAST-MODIFIED:20250523T140936Z
UID:297-1748635200-1748640600@ocioenferrolterra.com
SUMMARY:Poésicas y Musiemas – Poesía y música en San Sadurniño
DESCRIPTION:📍 Lugar: Café Bar Dzine III\, San Sadurniño📅 Fecha y hora: Viernes 30 de mayo\, a las 20:00 h🎫 Entradas: Entrada libre \nDescripción del evento: \nEl Café Bar Dzine III de San Sadurniño se transforma este viernes 30 de mayo en un espacio para la emoción compartida con Poésicas y Musiemas\, una velada de poesía y música protagonizada por Dr. Pérez y Papu Strings. Más que una actuación\, este evento es el reencuentro artístico de dos amigos que vuelven a cruzar caminos para ofrecer una propuesta íntima y llena de sensibilidad. \nLa complicidad entre ambos artistas se reflejará en un formato cercano\, donde los versos y las melodías se entrelazan para crear una experiencia cargada de emoción. Un plan perfecto para quienes valoran la palabra dicha con sentimiento\, la música hecha desde el alma y el arte que surge de la amistad.
URL:https://ocioenferrolterra.com/event/poesicas-y-musiemas-poesia-y-musica-en-san-sadurnino/
CATEGORIES:Concierto
ATTACH;FMTTYPE=image/jpeg:https://ocioenferrolterra.com/wp-content/uploads/2025/05/musiemas.jpg
END:VEVENT
BEGIN:VEVENT
DTSTART;TZID=Europe/Madrid:20250531T130000
DTEND;TZID=Europe/Madrid:20250531T130000
DTSTAMP:20260424T010936
CREATED:20250522T112248Z
LAST-MODIFIED:20250522T143120Z
UID:234-1748696400-1748696400@ocioenferrolterra.com
SUMMARY:Presentación do XXX Festival do Río Castro
DESCRIPTION:📍 Lugar: Café Bar O Campo\, Piñeiro (San Sadurniño)📅 Fecha e hora: Sábado 31 de maio de 2025\, a partir das 13:00 h🎫 Entradas: Acceso libre🔗 Máis info: sanSadurniño.gal \nDescrición do evento: \nA Asociación Veciñal O Castelo de Narahío celebra o lanzamento oficial da 30ª edición do Festival do Río Castro cunha sesión vermú moi especial no Café Bar O Campo\, no Piñeiro. Este sábado 31 de maio\, desde as 13:00 h\, desvelaranse o deseño do cartel e os grupos que actuarán o vindeiro 5 de xullo na Bóla\, xunto á ponte medieval. \nA música estará a cargo do grupo Os Cantaberneiros e non faltará a troula: haberá contos\, baile e foliada libre durante toda a tarde. Ademais\, sortearase unha lámina do artista gráfico Juanlu Nacha co cartel ilustrado deste ano. \nUn adianto festivo que xa promete unha edición moi especial do festival\, co apoio do Concello de San Sadurniño e da Deputación da Coruña. Ideal para ir quecendo motores para unha das citas máis emblemáticas da cultura popular en Ferrolterra.
URL:https://ocioenferrolterra.com/event/presentacion-do-xxx-festival-do-rio-castro/
CATEGORIES:Concierto
ATTACH;FMTTYPE=image/jpeg:https://ocioenferrolterra.com/wp-content/uploads/2025/05/narahio.jpg
END:VEVENT
END:VCALENDAR