BEGIN:VCALENDAR
VERSION:2.0
PRODID:-//Ocio en Ferrolterra - ECPv6.15.13.1//NONSGML v1.0//EN
CALSCALE:GREGORIAN
METHOD:PUBLISH
X-ORIGINAL-URL:https://ocioenferrolterra.com
X-WR-CALDESC:Eventos para Ocio en Ferrolterra
REFRESH-INTERVAL;VALUE=DURATION:PT1H
X-Robots-Tag:noindex
X-PUBLISHED-TTL:PT1H
BEGIN:VTIMEZONE
TZID:Europe/Madrid
BEGIN:DAYLIGHT
TZOFFSETFROM:+0100
TZOFFSETTO:+0200
TZNAME:CEST
DTSTART:20240331T010000
END:DAYLIGHT
BEGIN:STANDARD
TZOFFSETFROM:+0200
TZOFFSETTO:+0100
TZNAME:CET
DTSTART:20241027T010000
END:STANDARD
BEGIN:DAYLIGHT
TZOFFSETFROM:+0100
TZOFFSETTO:+0200
TZNAME:CEST
DTSTART:20250330T010000
END:DAYLIGHT
BEGIN:STANDARD
TZOFFSETFROM:+0200
TZOFFSETTO:+0100
TZNAME:CET
DTSTART:20251026T010000
END:STANDARD
BEGIN:DAYLIGHT
TZOFFSETFROM:+0100
TZOFFSETTO:+0200
TZNAME:CEST
DTSTART:20260329T010000
END:DAYLIGHT
BEGIN:STANDARD
TZOFFSETFROM:+0200
TZOFFSETTO:+0100
TZNAME:CET
DTSTART:20261025T010000
END:STANDARD
END:VTIMEZONE
BEGIN:VEVENT
DTSTART;TZID=Europe/Madrid:20250628T133000
DTEND;TZID=Europe/Madrid:20250628T233000
DTSTAMP:20260424T011230
CREATED:20250623T145654Z
LAST-MODIFIED:20250623T145656Z
UID:977-1751117400-1751153400@ocioenferrolterra.com
SUMMARY:Ferreira celebra San Pelaio con comida popular\, hinchables y verbena el 28 de junio
DESCRIPTION:La parroquia de Ferreira\, en el municipio de San Sadurniño\, se prepara para celebrar este sábado 28 de junio sus fiestas patronales en honor a San Pelaio. La jornada promete actividad desde el mediodía hasta la madrugada\, con un programa que combina tradición religiosa\, gastronomía popular\, animación para los más pequeños y música en directo para cerrar el día en alto. \nLos actos arrancarán a las 13:30 horas con la misa solemne en honor al patrón\, seguida de la tradicional procesión y el lanzamiento de fuegos de artificio. A continuación\, tendrá lugar la sesión vermú con el grupo Máster\, que marcará el ritmo festivo hasta la hora de comer. \nA las 15:00 horas se servirá el esperado xantar popular\, con un completo menú que incluye paella\, churrasco\, postre\, café y bebidas. También habrá menú infantil. Los precios son de 30 € para adultos\, 12 € para niños de 9 a 13 años y gratuito para menores de 8. Quienes prefieran acercarse solo a la cena\, podrán hacerlo por 10 €\, disfrutando de pan\, chorizo y liscos. \nDurante la tarde\, la fiesta continuará con hinchables y una animada fiesta de la espuma\, pensada especialmente para el público infantil\, pero que suele congregar a toda la familia. Ya por la noche\, llegará el plato fuerte musical: una gran verbena con el Dúo Maracuyá y el grupo Máster\, que volverá al escenario para cerrar la jornada por todo lo alto.
URL:https://ocioenferrolterra.com/event/ferreira-celebra-san-pelaio-con-comida-popular-hinchables-y-verbena-el-28-de-junio/
CATEGORIES:Fiestas,Gastronomía
ATTACH;FMTTYPE=image/jpeg:https://ocioenferrolterra.com/wp-content/uploads/2025/06/san-paio-de-ferreira-san-sadurnino.jpg
END:VEVENT
END:VCALENDAR