BEGIN:VCALENDAR
VERSION:2.0
PRODID:-//Ocio en Ferrolterra - ECPv6.15.13.1//NONSGML v1.0//EN
CALSCALE:GREGORIAN
METHOD:PUBLISH
X-WR-CALNAME:Ocio en Ferrolterra
X-ORIGINAL-URL:https://ocioenferrolterra.com
X-WR-CALDESC:Eventos para Ocio en Ferrolterra
REFRESH-INTERVAL;VALUE=DURATION:PT1H
X-Robots-Tag:noindex
X-PUBLISHED-TTL:PT1H
BEGIN:VTIMEZONE
TZID:Europe/Madrid
BEGIN:DAYLIGHT
TZOFFSETFROM:+0100
TZOFFSETTO:+0200
TZNAME:CEST
DTSTART:20240331T010000
END:DAYLIGHT
BEGIN:STANDARD
TZOFFSETFROM:+0200
TZOFFSETTO:+0100
TZNAME:CET
DTSTART:20241027T010000
END:STANDARD
BEGIN:DAYLIGHT
TZOFFSETFROM:+0100
TZOFFSETTO:+0200
TZNAME:CEST
DTSTART:20250330T010000
END:DAYLIGHT
BEGIN:STANDARD
TZOFFSETFROM:+0200
TZOFFSETTO:+0100
TZNAME:CET
DTSTART:20251026T010000
END:STANDARD
BEGIN:DAYLIGHT
TZOFFSETFROM:+0100
TZOFFSETTO:+0200
TZNAME:CEST
DTSTART:20260329T010000
END:DAYLIGHT
BEGIN:STANDARD
TZOFFSETFROM:+0200
TZOFFSETTO:+0100
TZNAME:CET
DTSTART:20261025T010000
END:STANDARD
END:VTIMEZONE
BEGIN:VEVENT
DTSTART;TZID=Europe/Madrid:20250705T140000
DTEND;TZID=Europe/Madrid:20250705T230000
DTSTAMP:20260423T235842
CREATED:20250602T093705Z
LAST-MODIFIED:20250614T085121Z
UID:387-1751724000-1751756400@ocioenferrolterra.com
SUMMARY:XXX Festival do Río Castro 2025 en Narahío
DESCRIPTION:El Festival do Río Castro celebra su 30ª edición consolidado como una de las citas más queridas del verano en la comarca de Ferrolterra. Esta romería campestre\, organizada por la Asociación Veciñal O Castelo de Narahío con el apoyo del Concello de San Sadurniño y la Diputación da Coruña\, ofrece una jornada cargada de música\, tradición y actividades para todas las edades en un entorno natural. \nLa programación arranca a las 14:00 h con una sesión vermú a cargo de Sérralhe aí!\, que regresan al festival tras su participación en el 25º aniversario. Por la tarde\, los más pequeños podrán disfrutar de juegos tradicionales y de la actuación del payaso Peter Punk\, habitual del evento\, que volverá a hacer reír al público infantil con su espectáculo lleno de humor y mensajes conscientes. \nA partir de las 18:00 h\, los deportes rurales tomarán el protagonismo con campeonatos de serrado con tronzador y tiro de cuerda\, actividades que ya son todo un clásico del festival. La música en directo comenzará con Vai Rañala Meu!\, formación con sede en Sedes (Narón)\, que ofrecerá un repertorio de piezas tradicionales interpretadas con gaitas\, acordeón\, saxo\, clarinete\, percusión y voces. \nLa noche continuará con la actuación de Ailá\, banda compostelana ganadora de los premios Martín Códax de Música Tradicional\, que ha llevado su música a escenarios de Ortigueira\, Lorient y Glasgow. El cierre del festival correrá a cargo de Banda Xangai\, grupo emblemático de la música bravú que también celebra 30 años de trayectoria\, coincidiendo con el aniversario del festival. \n📍 Lugar: Espacio da Bóla\, junto al puente románico da Ferrería\, Naraío (San Sadurniño)\n📅 Fecha y hora: Sábado 5 de julio de 2025\, desde las 14:00 h\n🎟 Edad recomendada: Para todos los públicos\n🎫 Entradas: Acceso libre y gratuito
URL:https://ocioenferrolterra.com/event/festival-do-rio-castro-2025/
CATEGORIES:Festival
ATTACH;FMTTYPE=image/jpeg:https://ocioenferrolterra.com/wp-content/uploads/2025/06/festival-rio-castro-narahio-2025-1.jpg
END:VEVENT
END:VCALENDAR