BEGIN:VCALENDAR
VERSION:2.0
PRODID:-//Ocio en Ferrolterra - ECPv6.15.13.1//NONSGML v1.0//EN
CALSCALE:GREGORIAN
METHOD:PUBLISH
X-ORIGINAL-URL:https://ocioenferrolterra.com
X-WR-CALDESC:Eventos para Ocio en Ferrolterra
REFRESH-INTERVAL;VALUE=DURATION:PT1H
X-Robots-Tag:noindex
X-PUBLISHED-TTL:PT1H
BEGIN:VTIMEZONE
TZID:Europe/Madrid
BEGIN:DAYLIGHT
TZOFFSETFROM:+0100
TZOFFSETTO:+0200
TZNAME:CEST
DTSTART:20240331T010000
END:DAYLIGHT
BEGIN:STANDARD
TZOFFSETFROM:+0200
TZOFFSETTO:+0100
TZNAME:CET
DTSTART:20241027T010000
END:STANDARD
BEGIN:DAYLIGHT
TZOFFSETFROM:+0100
TZOFFSETTO:+0200
TZNAME:CEST
DTSTART:20250330T010000
END:DAYLIGHT
BEGIN:STANDARD
TZOFFSETFROM:+0200
TZOFFSETTO:+0100
TZNAME:CET
DTSTART:20251026T010000
END:STANDARD
BEGIN:DAYLIGHT
TZOFFSETFROM:+0100
TZOFFSETTO:+0200
TZNAME:CEST
DTSTART:20260329T010000
END:DAYLIGHT
BEGIN:STANDARD
TZOFFSETFROM:+0200
TZOFFSETTO:+0100
TZNAME:CET
DTSTART:20261025T010000
END:STANDARD
END:VTIMEZONE
BEGIN:VEVENT
DTSTART;TZID=Europe/Madrid:20250607T200000
DTEND;TZID=Europe/Madrid:20250607T200000
DTSTAMP:20260423T062736
CREATED:20250522T113311Z
LAST-MODIFIED:20250522T132904Z
UID:244-1749326400-1749326400@ocioenferrolterra.com
SUMMARY:Foliada da Alxibeira 2025 en Narón
DESCRIPTION:📍 Lugar: Aldea Nova\, Sedes (Narón)📅 Fecha y hora: Sábado 7 de junio de 2025\, a partir de las 20:00 h🎫 Entradas: Acceso libre y gratuito \nDescripción del evento: \nLa parroquia de Sedes\, en Narón\, acoge una nueva edición de la Foliada da Alxibeira\, una cita destacada dentro del calendario de eventos tradicionales en la comarca de Ferrolterra. Organizada por el grupo de baile y música tradicional Alxibeira\, esta foliada reúne a amantes del folclore gallego para compartir una noche de música\, baile y convivencia. \nEl evento comenzará a las 20:00 horas en el espacio de Aldea Nova\, un entorno natural que se transforma en punto de encuentro para vecinos y visitantes. Aunque el programa detallado aún no ha sido publicado\, ediciones anteriores han contado con actuaciones de grupos locales\, obradoiros de baile y espacios para la improvisación musical\, lo que convierte la foliada en una experiencia participativa y abierta a todas las edades. \nLa Foliada da Alxibeira es una excelente oportunidad para disfrutar de la cultura popular gallega en un ambiente festivo y acogedor. Si buscas un plan auténtico para el fin de semana en Narón\, esta foliada es una opción ideal para sumergirte en las tradiciones de Galicia.
URL:https://ocioenferrolterra.com/event/foliada-da-alxibeira-2025-en-naron/
CATEGORIES:Concierto
ATTACH;FMTTYPE=image/webp:https://ocioenferrolterra.com/wp-content/uploads/2025/05/foliada.webp
END:VEVENT
END:VCALENDAR