BEGIN:VCALENDAR
VERSION:2.0
PRODID:-//Ocio en Ferrolterra - ECPv6.15.13.1//NONSGML v1.0//EN
CALSCALE:GREGORIAN
METHOD:PUBLISH
X-ORIGINAL-URL:https://ocioenferrolterra.com
X-WR-CALDESC:Eventos para Ocio en Ferrolterra
REFRESH-INTERVAL;VALUE=DURATION:PT1H
X-Robots-Tag:noindex
X-PUBLISHED-TTL:PT1H
BEGIN:VTIMEZONE
TZID:Europe/Madrid
BEGIN:DAYLIGHT
TZOFFSETFROM:+0100
TZOFFSETTO:+0200
TZNAME:CEST
DTSTART:20240331T010000
END:DAYLIGHT
BEGIN:STANDARD
TZOFFSETFROM:+0200
TZOFFSETTO:+0100
TZNAME:CET
DTSTART:20241027T010000
END:STANDARD
BEGIN:DAYLIGHT
TZOFFSETFROM:+0100
TZOFFSETTO:+0200
TZNAME:CEST
DTSTART:20250330T010000
END:DAYLIGHT
BEGIN:STANDARD
TZOFFSETFROM:+0200
TZOFFSETTO:+0100
TZNAME:CET
DTSTART:20251026T010000
END:STANDARD
BEGIN:DAYLIGHT
TZOFFSETFROM:+0100
TZOFFSETTO:+0200
TZNAME:CEST
DTSTART:20260329T010000
END:DAYLIGHT
BEGIN:STANDARD
TZOFFSETFROM:+0200
TZOFFSETTO:+0100
TZNAME:CET
DTSTART:20261025T010000
END:STANDARD
END:VTIMEZONE
BEGIN:VEVENT
DTSTART;TZID=Europe/Madrid:20250614T110000
DTEND;TZID=Europe/Madrid:20250614T180000
DTSTAMP:20260423T062714
CREATED:20250602T125729Z
LAST-MODIFIED:20250611T141937Z
UID:406-1749898800-1749924000@ocioenferrolterra.com
SUMMARY:La III Canichada de Galicia reúne a amantes de los caniches este sábado en Narón
DESCRIPTION:Este sábado 14 de junio\, el Recinto do Trece\, en Narón\, acogerá una nueva edición de la Canichada de Galicia\, un evento único que convierte a los caniches en protagonistas absolutos de una jornada pensada para disfrutar\, aprender y compartir en torno al mundo canino. \nOrganizada por el Concello de Narón\, la Asociación Caniches de Galicia y el colectivo Casa Celso\, la cita arrancará a las 11:00 h y contará con una programación continua durante todo el día. A las 11:45 h tendrá lugar la primera de las charlas especializadas\, centrada en la alimentación canina\, seguida a las 12:00 h de una ponencia sobre peluquería para caniches. \nTras la comida\, a las 13:00 h\, será el momento para los juegos y actividades participativas\, en las que tanto mascotas como tutores podrán interactuar en un entorno relajado y lúdico. Por la tarde\, a las 16:30 h\, se celebrará una charla sobre educación canina\, centrada en pautas para una convivencia positiva y saludable. \nEl broche final llegará a las 17:30 h con el concurso y los sorteos\, que pondrán en valor la simpatía\, el carisma y la belleza de estos perros tan queridos. \nAdemás\, durante toda la jornada habrá presencia de marcas especializadas\, stands con productos y servicios\, y ambiente familiar para quienes quieran pasar un día diferente rodeados de peludos.
URL:https://ocioenferrolterra.com/event/iii-canichada-de-galicia-2025/
CATEGORIES:Concentración
ATTACH;FMTTYPE=image/jpeg:https://ocioenferrolterra.com/wp-content/uploads/2025/06/canichada.jpg
END:VEVENT
END:VCALENDAR