BEGIN:VCALENDAR
VERSION:2.0
PRODID:-//Ocio en Ferrolterra - ECPv6.15.13.1//NONSGML v1.0//EN
CALSCALE:GREGORIAN
METHOD:PUBLISH
X-WR-CALNAME:Ocio en Ferrolterra
X-ORIGINAL-URL:https://ocioenferrolterra.com
X-WR-CALDESC:Eventos para Ocio en Ferrolterra
REFRESH-INTERVAL;VALUE=DURATION:PT1H
X-Robots-Tag:noindex
X-PUBLISHED-TTL:PT1H
BEGIN:VTIMEZONE
TZID:Europe/Madrid
BEGIN:DAYLIGHT
TZOFFSETFROM:+0100
TZOFFSETTO:+0200
TZNAME:CEST
DTSTART:20240331T010000
END:DAYLIGHT
BEGIN:STANDARD
TZOFFSETFROM:+0200
TZOFFSETTO:+0100
TZNAME:CET
DTSTART:20241027T010000
END:STANDARD
BEGIN:DAYLIGHT
TZOFFSETFROM:+0100
TZOFFSETTO:+0200
TZNAME:CEST
DTSTART:20250330T010000
END:DAYLIGHT
BEGIN:STANDARD
TZOFFSETFROM:+0200
TZOFFSETTO:+0100
TZNAME:CET
DTSTART:20251026T010000
END:STANDARD
BEGIN:DAYLIGHT
TZOFFSETFROM:+0100
TZOFFSETTO:+0200
TZNAME:CEST
DTSTART:20260329T010000
END:DAYLIGHT
BEGIN:STANDARD
TZOFFSETFROM:+0200
TZOFFSETTO:+0100
TZNAME:CET
DTSTART:20261025T010000
END:STANDARD
END:VTIMEZONE
BEGIN:VEVENT
DTSTART;TZID=Europe/Madrid:20250620T180000
DTEND;TZID=Europe/Madrid:20250620T233000
DTSTAMP:20260423T063112
CREATED:20250613T133117Z
LAST-MODIFIED:20250613T133119Z
UID:891-1750442400-1750462200@ocioenferrolterra.com
SUMMARY:San Xoán de Cedo: música\, lumeirada y fiesta en Sedes
DESCRIPTION:El próximo viernes 20 de junio\, el Centro Cívico Social de Sedes\, en Narón\, se llenará de vida para celebrar el San Xoán de Cedo\, una jornada pensada para compartir\, jugar\, bailar y dar la bienvenida al verano en comunidad. La Asociación Veciñal Rosa dos Ventos\, con la colaboración de la Deputación da Coruña\, ha preparado un programa completo que arranca por la tarde y se alargará hasta bien entrada la noche. \nDesde las 18:00 h habrá xogos populares para grandes y pequeños\, en un ambiente familiar y participativo que es ya marca de la casa. A las 20:30 h actuará la Banda de Gaitas do Ortegal\, poniendo banda sonora gallega a los momentos previos a la cena\, que llegará a las 21:00 h con la churrascada popular\, uno de los momentos más esperados del día. \nLa noche continuará a las 22:00 h con el concierto de Os Carecos\, que subirán al escenario con su mezcla de humor y música en directo. Y\, como manda la tradición\, a las 23:30 h se encenderá la lumeirada popular\, el fuego purificador con el que se celebra el San Xoán en Galicia. No faltarán tampoco los sorteos durante toda la velada.
URL:https://ocioenferrolterra.com/event/san-xoan-de-cedo-musica-lumeirada-y-fiesta-en-sedes/
CATEGORIES:Fiestas
ATTACH;FMTTYPE=image/jpeg:https://ocioenferrolterra.com/wp-content/uploads/2025/06/san-xoan-sedes-2025.jpg
END:VEVENT
END:VCALENDAR