BEGIN:VCALENDAR
VERSION:2.0
PRODID:-//Ocio en Ferrolterra - ECPv6.15.13.1//NONSGML v1.0//EN
CALSCALE:GREGORIAN
METHOD:PUBLISH
X-WR-CALNAME:Ocio en Ferrolterra
X-ORIGINAL-URL:https://ocioenferrolterra.com
X-WR-CALDESC:Eventos para Ocio en Ferrolterra
REFRESH-INTERVAL;VALUE=DURATION:PT1H
X-Robots-Tag:noindex
X-PUBLISHED-TTL:PT1H
BEGIN:VTIMEZONE
TZID:Europe/Madrid
BEGIN:DAYLIGHT
TZOFFSETFROM:+0100
TZOFFSETTO:+0200
TZNAME:CEST
DTSTART:20240331T010000
END:DAYLIGHT
BEGIN:STANDARD
TZOFFSETFROM:+0200
TZOFFSETTO:+0100
TZNAME:CET
DTSTART:20241027T010000
END:STANDARD
BEGIN:DAYLIGHT
TZOFFSETFROM:+0100
TZOFFSETTO:+0200
TZNAME:CEST
DTSTART:20250330T010000
END:DAYLIGHT
BEGIN:STANDARD
TZOFFSETFROM:+0200
TZOFFSETTO:+0100
TZNAME:CET
DTSTART:20251026T010000
END:STANDARD
BEGIN:DAYLIGHT
TZOFFSETFROM:+0100
TZOFFSETTO:+0200
TZNAME:CEST
DTSTART:20260329T010000
END:DAYLIGHT
BEGIN:STANDARD
TZOFFSETFROM:+0200
TZOFFSETTO:+0100
TZNAME:CET
DTSTART:20261025T010000
END:STANDARD
END:VTIMEZONE
BEGIN:VEVENT
DTSTART;TZID=Europe/Madrid:20250524T113000
DTEND;TZID=Europe/Madrid:20250524T113000
DTSTAMP:20260421T234418
CREATED:20250521T110740Z
LAST-MODIFIED:20250521T110755Z
UID:94-1748086200-1748086200@ocioenferrolterra.com
SUMMARY:Concentración de motos Harley Davidson: Pulpo y Carretera en Ferrol
DESCRIPTION:📍 Lugar: Puerto de Ferrol y alrededores \n🗓 Fecha: Viernes 24 de mayo\, desde las 11:30 h \n🚨 Evento abierto al público (zona puerto) \n📣 Organiza: Club Coruña Chapter (Harley Davidson España) \n\nDescripción del evento: \nEl próximo sábado 24 de mayo\, Ferrol será escenario de una impresionante concentración motera con la llegada del evento internacional Pulpo y Carretera\, organizado por el Club Coruña Chapter\, club oficial de Harley Davidson en España. Esta cita\, que forma parte de una ruta de tres días por distintas localidades\, reunirá en la ciudad más de 250 personas y 160 motos Harley Davidson procedentes de toda España e incluso del extranjero. \nDesde Valencia\, Madrid\, Palma de Mallorca\, Almería\, Lleida\, Cantabria\, Sevilla\, Navarra\, Asturias y más\, hasta motoristas internacionales llegados desde Alemania y Portugal\, los amantes del motor disfrutarán de una jornada única en Ferrol. \nEl punto de encuentro será en la zona del puerto\, donde las motos estarán expuestas al público desde las 11:30 h\, creando un auténtico espectáculo visual y sonoro. La jornada incluye una travesía en lancha\, una visita guiada al Castillo de San Felipe\, la tradicional entrega de trofeos y un desfile de banderas por las calles de Ferrol antes de regresar a A Coruña. \nSegún la concejala de Turismo\, Maica García\, esta visita es una gran oportunidad para que quienes participan en el evento descubran el atractivo turístico de la ciudad y vuelvan en vacaciones para disfrutar de su historia\, cultura\, playas y gastronomía.
URL:https://ocioenferrolterra.com/event/concentracion-de-motos-harley-davidson-pulpo-y-carretera-en-ferrol/
CATEGORIES:Concentración
ATTACH;FMTTYPE=image/jpeg:https://ocioenferrolterra.com/wp-content/uploads/2025/05/Motoristas-Ferrol.jpg
END:VEVENT
BEGIN:VEVENT
DTSTART;TZID=Europe/Madrid:20250524T103000
DTEND;TZID=Europe/Madrid:20250524T190000
DTSTAMP:20260421T234418
CREATED:20250523T091153Z
LAST-MODIFIED:20250523T092906Z
UID:267-1748082600-1748113200@ocioenferrolterra.com
SUMMARY:XLV Memorial Internacional Juan Varela y XXVIII Trofeo de Natación “Concello de Ferrol”
DESCRIPTION:📍 Lugar: Piscina del Campus de Esteiro\, Ferrol📅 Fecha y hora: Sábado 24 de mayo de 2025\, 10:30 h (1ª sesión) y 17:00 h (2ª sesión)🎟 Edad recomendada: Público general🎫 Entradas: Acceso libre🔗 Más info: FEGAN \nDescripción del evento: \nFerrol se convierte un año más en el epicentro de la natación gallega e internacional con la celebración del XLV Memorial Internacional Juan Varela y el XXVIII Trofeo de Natación “Concello de Ferrol”. Este sábado 24 de mayo\, más de 230 nadadores y nadadoras de 17 clubs de Galicia y del norte de Portugal competirán en dos intensas sesiones que tendrán lugar en la piscina del Campus de Esteiro. \nLa cita cuenta con el respaldo del Concello de Ferrol y la colaboración de la Junta de Deportes de la Armada y la Federación Galega de Natación. Entre los equipos participantes destacan potentes formaciones como el CN Ferrol\, Náutico Narón\, Marina Ferrol o el campeón portugués C Fluvial Vilacondense. \nAdemás de los trofeos por clubes\, habrá importantes premios económicos para los cinco mejores nadadores y nadadoras según la tabla FINA\, así como recompensas especiales por batir récords de campeonato\, gallegos o nacionales. La entrega de premios clausurará la jornada sobre las 19:00 h.
URL:https://ocioenferrolterra.com/event/xlv-memorial-internacional-juan-varela-y-xxviii-trofeo-de-natacion-concello-de-ferrol/
CATEGORIES:Deportivo
ATTACH;FMTTYPE=image/jpeg:https://ocioenferrolterra.com/wp-content/uploads/2025/05/piscina.jpg
END:VEVENT
BEGIN:VEVENT
DTSTART;TZID=Europe/Madrid:20250523T200000
DTEND;TZID=Europe/Madrid:20250523T213000
DTSTAMP:20260421T234418
CREATED:20250523T133119Z
LAST-MODIFIED:20250523T134146Z
UID:291-1748030400-1748035800@ocioenferrolterra.com
SUMMARY:Concierto de Jess & The Transfusions en Route 66
DESCRIPTION:📍 Lugar: Bar Route 66\, Ferrol📅 Fecha y hora: Viernes 23 de mayo\, a las 20:00 h🎫 Entradas: Entrada libre \nDescripción del evento: \nEl mítico Bar Route 66 de Ferrol vuelve a llenarse de ritmo con la actuación en directo de Jess & The Transfusions\, una banda local que apuesta por el rock clásico. El concierto\, programado para el viernes 23 de mayo a las 20:00 h\, promete una tarde-noche animada en uno de los locales más emblemáticos de la escena ferrolana. \nCon un repertorio que combina versiones y temas propios\, esta formación ofrece una propuesta sincera y potente\, ideal para quienes disfrutan del ambiente cercano de los bares con música en vivo. La voz de Jess y el buen hacer instrumental de la banda garantizan un concierto cálido y con personalidad.
URL:https://ocioenferrolterra.com/event/concierto-de-jess-the-transfusions-en-route-66/
CATEGORIES:Concierto
ATTACH;FMTTYPE=image/jpeg:https://ocioenferrolterra.com/wp-content/uploads/2025/05/route66.jpg
END:VEVENT
BEGIN:VEVENT
DTSTART;TZID=Europe/Madrid:20250523T183000
DTEND;TZID=Europe/Madrid:20250524T230000
DTSTAMP:20260421T234418
CREATED:20250522T113124Z
LAST-MODIFIED:20250522T113124Z
UID:241-1748025000-1748127600@ocioenferrolterra.com
SUMMARY:VII Cantos de Taberna en Pontedeume
DESCRIPTION:📍 Lugar: Alameda de Raxoi\, Pontedeume (A Coruña)📅 Fecha y hora: Viernes 23 y sábado 24 de mayo de 2025🎫 Entradas: Acceso libre y gratuito🔗 Más info: \nDescripción del evento: \nPontedeume se prepara para vivir una nueva edición de los Cantos de Taberna\, una cita imprescindible en el calendario cultural de la comarca del Eume. Organizado por la asociación Airiños do Eume en colaboración con el Concello\, este evento llenará las calles del casco histórico de música tradicional gallega\, creando un ambiente festivo y acogedor para vecinos y visitantes. \nEl viernes 23 de mayo\, la jornada comenzará a las 18:30 horas con una muestra de las escuelas de Airiños do Eume en la Alameda de Raxoi. A las 19:30\, el grupo Os Feroces da Galgueira animará las calles con su música\, seguido a las 20:00 por la actuación de Cé Orquestra Pantasma\, un espectáculo pensado para todos los públicos. \nEl sábado 24\, la feria de artesanía abrirá sus puertas a las 11:00 en la Alameda\, ofreciendo productos tradicionales. Los cantos de taberna se realizarán en dos pases: a las 12:00 y a las 19:00 horas\, recorriendo diferentes locales del centro. A las 21:00\, tendrá lugar el tradicional concurso de agarrados\, y como broche final\, los grupos Faíscas da Pontraga y Zurrumalla ofrecerán conciertos de clausura en la Alameda.
URL:https://ocioenferrolterra.com/event/vii-cantos-de-taberna-en-pontedeume/
CATEGORIES:Concierto
ATTACH;FMTTYPE=image/webp:https://ocioenferrolterra.com/wp-content/uploads/2025/05/cantos.webp
END:VEVENT
BEGIN:VEVENT
DTSTART;TZID=Europe/Madrid:20250523T183000
DTEND;TZID=Europe/Madrid:20250523T193000
DTSTAMP:20260421T234418
CREATED:20250521T144042Z
LAST-MODIFIED:20250521T144042Z
UID:135-1748025000-1748028600@ocioenferrolterra.com
SUMMARY:Presentación del libro "Íntimos rincones" de Maite Gascón Díaz
DESCRIPTION:📍 Lugar: Biblioteca Municipal de Narón (Sala multiusos)📅 Fecha y hora: Viernes 23 de mayo de 2025\, a las 18:30 h🎫 Entradas: Acceso libre hasta completar aforo🔗 Más info: biblioteca.naron.gal \nDescripción del evento: \nLa Biblioteca Municipal de Narón acoge este viernes una cita especial con la poesía contemporánea. La autora Maite Gascón Díaz presenta su nuevo poemario\, Íntimos rincones\, una obra publicada por Editorial Cuadranta que reúne 200 haikus de tono intimista. A través de estos breves poemas\, la escritora explora emociones y vivencias cotidianas con la delicadeza y precisión propias de este estilo poético japonés. \nMaite Gascón\, originaria de Guijuelo (Salamanca) y residente en Mugardos\, ha cultivado desde temprana edad una profunda pasión por la literatura\, especialmente por la poesía. Entre sus publicaciones anteriores se encuentran títulos como El tren de la poesía y Unas vocales muy divertidas\, dirigidos al público infantil. En esta ocasión\, la autora estará acompañada por la también escritora Julia Graña\, quien participará en la presentación del libro. \nEste evento se enmarca dentro de las actividades culturales de la comarca de Ferrolterra y representa una excelente oportunidad para los amantes de la poesía y la literatura. Al finalizar la presentación\, los asistentes podrán adquirir ejemplares del libro. Una propuesta ideal para quienes buscan planes culturales en Galicia este fin de semana.
URL:https://ocioenferrolterra.com/event/presentacion-del-libro-intimos-rincones-de-maite-gascon-diaz/
CATEGORIES:Literatura
ATTACH;FMTTYPE=image/png:https://ocioenferrolterra.com/wp-content/uploads/2025/05/intimos-rincones.png
END:VEVENT
BEGIN:VEVENT
DTSTART;TZID=Europe/Madrid:20250523T083000
DTEND;TZID=Europe/Madrid:20250523T220000
DTSTAMP:20260421T234418
CREATED:20250521T144358Z
LAST-MODIFIED:20250521T144358Z
UID:138-1747989000-1748037600@ocioenferrolterra.com
SUMMARY:Cineconcerto: El gabinete del doctor Caligari + Caliza Live Show
DESCRIPTION:📍 Lugar: Teatro Jofre\, Ferrol📅 Fecha y hora: Viernes 23 de mayo de 2025\, a las 20:30 h🎟 Edad recomendada: Todos los públicos🎫 Entradas: Desde 8 € en Ataquilla.com y en la taquilla del Teatro Jofre \nDescripción del evento: \nEl ciclo municipal Cineconcerto regresa al Teatro Jofre con una propuesta que combina cine mudo y música en directo. En esta ocasión\, se proyectará la película alemana de 1920 El gabinete del doctor Caligari\, dirigida por Robert Wiene\, en versión original con rótulos en alemán y castellano. La proyección estará acompañada por la música en vivo de Caliza\, proyecto musical de Elisa Pérez\, que ofrecerá una nueva interpretación sonora mediante sintetizadores\, samples y grabaciones de campo. \nEsta experiencia única invita al público de Ferrol y la comarca de Ferrolterra a redescubrir un clásico del cine expresionista alemán a través de una perspectiva contemporánea. Una oportunidad para disfrutar de una noche de cultura y arte en el corazón de Galicia.
URL:https://ocioenferrolterra.com/event/cineconcerto-el-gabinete-del-doctor-caligari-caliza-live-show/
CATEGORIES:Cine
ATTACH;FMTTYPE=image/jpeg:https://ocioenferrolterra.com/wp-content/uploads/2025/05/caligari.jpg
END:VEVENT
BEGIN:VEVENT
DTSTART;VALUE=DATE:20250523
DTEND;VALUE=DATE:20250525
DTSTAMP:20260421T234418
CREATED:20250521T092448Z
LAST-MODIFIED:20250521T092722Z
UID:49-1747958400-1748131199@ocioenferrolterra.com
SUMMARY:37º Rallye Cidade de Narón 2025
DESCRIPTION:📍 Lugar: Narón y municipios de la comarca (Valdoviño\, Moeche\, Cerdido\, As Somozas\, San Sadurniño)📅 Fecha y hora: Viernes 23 y sábado 24 de mayo de 2025🎟 Edad recomendada: Todos los públicos🎫 Entradas: Acceso libre a tramos y parque cerrado \nLa emoción del motor regresa a Ferrolterra con la 37ª edición del Rallye Cidade de Narón\, una de las pruebas más destacadas del calendario gallego y puntuable para el Campeonato de España de Rallyes de Asfalto (CERA). Organizado por la Escudería Siroco Narón\, el evento se desarrollará los días 23 y 24 de mayo\, con un recorrido que abarca los municipios de Narón\, Valdoviño\, Moeche\, Cerdido\, As Somozas y San Sadurniño. \nEl viernes 23\, el rallye comenzará con las verificaciones técnicas y el shakedown en las inmediaciones del centro comercial Odeón. Por la tarde\, se llevará a cabo la ceremonia de salida y una sesión de firmas de autógrafos con los pilotos. El sábado 24\, la competición se intensificará con cinco tramos a doble pasada\, sumando un total de 119\,78 kilómetros cronometrados sobre un recorrido total de 418 kilómetros. Una de las novedades de esta edición es la inclusión de tramos en el municipio de Valdoviño\, ofreciendo paisajes espectaculares y desafiantes para los participantes . \nCon una lista de 65 equipos inscritos\, destacan pilotos como Jorge Cagiao\, Miguel Fuster\, Enrique Cruz\, Joan Vinyes y Diego Varela\, quienes competirán con vehículos de última generación como el Alpine A110 GT+\, Toyota GR Yaris Rally2 y Hyundai i20 N Rally2 . El parque cerrado estará ubicado en el entorno del centro comercial Odeón\, permitiendo a los aficionados acercarse a los vehículos y a los pilotos en un ambiente cercano y festivo. \nEl Rallye Cidade de Narón 2025 es una cita imperdible para los amantes del automovilismo y una excelente oportunidad para disfrutar de la adrenalina y la pasión por el motor en la comarca de Ferrolterra. ¡No te lo pierdas!
URL:https://ocioenferrolterra.com/event/37o-rallye-cidade-de-naron-2025/
CATEGORIES:Deportivo
ATTACH;FMTTYPE=image/webp:https://ocioenferrolterra.com/wp-content/uploads/2025/05/Rallye-Naron.webp
END:VEVENT
BEGIN:VEVENT
DTSTART;TZID=Europe/Madrid:20250523T233000
DTEND;TZID=Europe/Madrid:20250523T233000
DTSTAMP:20260421T234418
CREATED:20250521T104448Z
LAST-MODIFIED:20250521T104616Z
UID:81-1748043000-1748043000@ocioenferrolterra.com
SUMMARY:Concierto de Shug R’Band en La Room
DESCRIPTION:📍 Lugar: Sala La Room\, Ferrol📅 Fecha y hora: Viernes 23 de mayo de 2025\, apertura de puertas a las 00:00 h; concierto a las 00:15 h🎟 Edad recomendada: Todos los públicos🎫 Entradas: 5 € (venta en taquilla) \nDescripción del evento: \nLa sala La Room de Ferrol acoge este viernes el concierto de Shug R’Band\, banda nacida en Fene en 2022 que se presenta con una mezcla explosiva de blues\, soul\, funky\, swing y rock. El grupo\, formado por músicos veteranos de la comarca de Ferrolterra\, trae consigo un directo enérgico y lleno de alma para presentar su primer trabajo homónimo\, “Shug R’Band”. \nCon un repertorio que combina temas propios con versiones de clásicos de gigantes como ZZ Top\, Elvis\, Otis Redding o The Blues Brothers\, la banda promete una noche llena de ritmo y grandes momentos. Jose Piñeiro a la batería\, Jose Loureda y Félix Freire en las guitarras\, Fausto Escrigas al saxo\, Roberto Souto al bajo y la potente voz de Maikel Rodeiro forman un equipo que ya ha compartido escenario con la legendaria The Original Blues Brothers Band. \nEste concierto forma parte de su gira de presentación y representa una gran oportunidad para disfrutar de talento local con proyección y mucha actitud. Un plan ideal para vivir la noche ferrolana con buena música y ambiente.
URL:https://ocioenferrolterra.com/event/concierto-de-shug-rband-en-la-room/
CATEGORIES:Concierto
ATTACH;FMTTYPE=image/jpeg:https://ocioenferrolterra.com/wp-content/uploads/2025/05/shug.jpg
END:VEVENT
BEGIN:VEVENT
DTSTART;TZID=Europe/Madrid:20250522T200000
DTEND;TZID=Europe/Madrid:20250522T213000
DTSTAMP:20260421T234418
CREATED:20250521T144657Z
LAST-MODIFIED:20250521T144657Z
UID:141-1747944000-1747949400@ocioenferrolterra.com
SUMMARY:Presentación del libro "El tranvía de Ferrol a Neda" de Tomás Casal Pita
DESCRIPTION:📍 Lugar: Casa das Palmeiras\, Neda📅 Fecha y hora: Jueves 22 de mayo de 2025\, a las 20:00 h🎫 Entradas: Acceso libre hasta completar aforo🔗 Más info: neda.gal \nDescripción del evento: \nLa Casa das Palmeiras de Neda será escenario de una cita imprescindible para los amantes de la historia local y del patrimonio ferroviario de la comarca de Ferrolterra. El escritor Tomás Casal Pita presenta su nuevo libro\, El tranvía de Ferrol a Neda. Primera parte (1890-1939)\, una obra de divulgación histórica que reconstruye los orígenes y primeras décadas de este emblemático medio de transporte que conectó Ferrol\, Narón y Neda durante el siglo XX. \nBasado en testimonios reales y una exhaustiva investigación en archivos públicos\, el libro ofrece una visión detallada de los inicios del tranvía eléctrico\, considerado el primer proyecto de este tipo en Galicia\, aunque su materialización se retrasó casi 25 años. A lo largo de sus 400 páginas\, el autor desmonta mitos\, aporta curiosidades y presenta un valioso anexo documental\, acompañado de ilustraciones de Julio Ferrín. \nDurante el acto\, los asistentes podrán adquirir ejemplares del libro y obtener la firma del autor. Una oportunidad única para redescubrir una parte fundamental de la historia del transporte en la comarca y disfrutar de una velada cultural en Neda.
URL:https://ocioenferrolterra.com/event/presentacion-del-libro-el-tranvia-de-ferrol-a-neda-de-tomas-casal-pita/
CATEGORIES:Literatura
ATTACH;FMTTYPE=image/jpeg:https://ocioenferrolterra.com/wp-content/uploads/2025/05/tranvia.jpg
END:VEVENT
BEGIN:VEVENT
DTSTART;TZID=Europe/Madrid:20250522T100000
DTEND;TZID=Europe/Madrid:20250523T200000
DTSTAMP:20260421T234418
CREATED:20250522T111320Z
LAST-MODIFIED:20250522T111320Z
UID:231-1747908000-1748030400@ocioenferrolterra.com
SUMMARY:Exposición "Gritos en el Silencio" de Lucas Blanco
DESCRIPTION:📍 Lugar: Sala Anexa ao Salón de Actos Concepción Arenal\, Campus Industrial de Ferrol📅 Fecha y hora: Hasta el viernes 23 de mayo de 2025 | De 10:00 a 14:00 h y de 16:00 a 20:00 h🎫 Entradas: Acceso libre🔗 Más info: udc.gal \nDescripción del evento: \nEl fotógrafo naronés Lucas Blanco expone en el Campus Industrial de Ferrol una impactante colección titulada Gritos en el Silencio\, una muestra que invita a la reflexión social y medioambiental. La exposición\, organizada por la Oficina de Cooperación e Voluntariado de la Universidade da Coruña\, reúne imágenes captadas durante sus viajes a distintos lugares del mundo. \nEntre las fotografías destacan escenas tomadas en campamentos de refugiados saharauis y sirios\, así como documentos gráficos sobre el desastre ecológico causado por Texaco en Ecuador. Un testimonio visual poderoso que se puede visitar hasta el viernes 23 de mayo en el campus ferrolano.
URL:https://ocioenferrolterra.com/event/exposicion-gritos-en-el-silencio-de-lucas-blanco/
CATEGORIES:Exposición
ATTACH;FMTTYPE=image/png:https://ocioenferrolterra.com/wp-content/uploads/2025/05/silencio.png
END:VEVENT
END:VCALENDAR